BEGIN:VCALENDAR
VERSION:2.0
PRODID:-//Global Atlanta - ECPv6.15.20//NONSGML v1.0//EN
CALSCALE:GREGORIAN
METHOD:PUBLISH
X-WR-CALNAME:Global Atlanta
X-ORIGINAL-URL:https://www.globalatlanta.com
X-WR-CALDESC:Events for Global Atlanta
REFRESH-INTERVAL;VALUE=DURATION:PT1H
X-Robots-Tag:noindex
X-PUBLISHED-TTL:PT1H
BEGIN:VTIMEZONE
TZID:America/New_York
BEGIN:DAYLIGHT
TZOFFSETFROM:-0500
TZOFFSETTO:-0400
TZNAME:EDT
DTSTART:20240310T070000
END:DAYLIGHT
BEGIN:STANDARD
TZOFFSETFROM:-0400
TZOFFSETTO:-0500
TZNAME:EST
DTSTART:20241103T060000
END:STANDARD
BEGIN:DAYLIGHT
TZOFFSETFROM:-0500
TZOFFSETTO:-0400
TZNAME:EDT
DTSTART:20250309T070000
END:DAYLIGHT
BEGIN:STANDARD
TZOFFSETFROM:-0400
TZOFFSETTO:-0500
TZNAME:EST
DTSTART:20251102T060000
END:STANDARD
BEGIN:DAYLIGHT
TZOFFSETFROM:-0500
TZOFFSETTO:-0400
TZNAME:EDT
DTSTART:20260308T070000
END:DAYLIGHT
BEGIN:STANDARD
TZOFFSETFROM:-0400
TZOFFSETTO:-0500
TZNAME:EST
DTSTART:20261101T060000
END:STANDARD
END:VTIMEZONE
BEGIN:VEVENT
DTSTART;TZID=America/New_York:20250922T180000
DTEND;TZID=America/New_York:20250922T180000
DTSTAMP:20260425T145757
CREATED:20250607T213715Z
LAST-MODIFIED:20250607T213718Z
UID:10040697-1758564000-1758564000@www.globalatlanta.com
SUMMARY:An Evening with Former President of Poland Lech Walesa
DESCRIPTION:The tour begins in Los Angeles on August 31\, 2025\, marking the 45th anniversary of the Solidarity movement and Poland’s Day of Solidarity and Freedom. From there\, Walesa will visit 27 more cities across the U.S. and Canada\, sharing his perspectives on peace\, leadership and the challenges facing the world today. \n\n\n\nGlobalization brings society closer together while also highlighting regional differences. The greatest challenges of the 21st century lie ahead.– What will the future hold?– Can democracy survive?– How do we fight for a better tomorrow?Walesa will share his personal insights and his prescription for the future. Hear his stories of defiance\, resilience and leadership – stories that prove change is possible when people stand together. \n\n\n\nLive English interpretation will accompany this inspiring lecture by Lech Walesa. \n\n\n\n\n\n\nRegister\n\n\n\n\n\n\n\n\n\n\n\n\n\n\n\n\n\n\n\n	From the archive:
URL:https://www.globalatlanta.com/event/an-evening-with-former-president-of-poland-lech-walesa/
LOCATION:Atlanta Convention Center at AmericasMart\, Atlanta\, GA\, 240 Peachtree St NW #2200 \, Atlanta\, 30303\, United States
CATEGORIES:Democracy,Education,Global Affairs,History,international relations,Lecture
ATTACH;FMTTYPE=image/jpeg:https://www.globalatlanta.com/wp-content/uploads/history-explorer-logo.jpg
GEO:33.7603327;-84.3883264
X-APPLE-STRUCTURED-LOCATION;VALUE=URI;X-ADDRESS=Atlanta Convention Center at AmericasMart Atlanta GA 240 Peachtree St NW #2200  Atlanta 30303 United States;X-APPLE-RADIUS=500;X-TITLE=240 Peachtree St NW #2200:geo:-84.3883264,33.7603327
END:VEVENT
END:VCALENDAR