BEGIN:VCALENDAR
VERSION:2.0
PRODID:-//Global Atlanta - ECPv6.15.20//NONSGML v1.0//EN
CALSCALE:GREGORIAN
METHOD:PUBLISH
X-WR-CALNAME:Global Atlanta
X-ORIGINAL-URL:https://www.globalatlanta.com
X-WR-CALDESC:Events for Global Atlanta
REFRESH-INTERVAL;VALUE=DURATION:PT1H
X-Robots-Tag:noindex
X-PUBLISHED-TTL:PT1H
BEGIN:VTIMEZONE
TZID:America/New_York
BEGIN:DAYLIGHT
TZOFFSETFROM:-0500
TZOFFSETTO:-0400
TZNAME:EDT
DTSTART:20160313T070000
END:DAYLIGHT
BEGIN:STANDARD
TZOFFSETFROM:-0400
TZOFFSETTO:-0500
TZNAME:EST
DTSTART:20161106T060000
END:STANDARD
BEGIN:DAYLIGHT
TZOFFSETFROM:-0500
TZOFFSETTO:-0400
TZNAME:EDT
DTSTART:20170312T070000
END:DAYLIGHT
BEGIN:STANDARD
TZOFFSETFROM:-0400
TZOFFSETTO:-0500
TZNAME:EST
DTSTART:20171105T060000
END:STANDARD
BEGIN:DAYLIGHT
TZOFFSETFROM:-0500
TZOFFSETTO:-0400
TZNAME:EDT
DTSTART:20180311T070000
END:DAYLIGHT
BEGIN:STANDARD
TZOFFSETFROM:-0400
TZOFFSETTO:-0500
TZNAME:EST
DTSTART:20181104T060000
END:STANDARD
BEGIN:DAYLIGHT
TZOFFSETFROM:-0500
TZOFFSETTO:-0400
TZNAME:EDT
DTSTART:20190310T070000
END:DAYLIGHT
BEGIN:STANDARD
TZOFFSETFROM:-0400
TZOFFSETTO:-0500
TZNAME:EST
DTSTART:20191103T060000
END:STANDARD
BEGIN:DAYLIGHT
TZOFFSETFROM:-0500
TZOFFSETTO:-0400
TZNAME:EDT
DTSTART:20200308T070000
END:DAYLIGHT
BEGIN:STANDARD
TZOFFSETFROM:-0400
TZOFFSETTO:-0500
TZNAME:EST
DTSTART:20201101T060000
END:STANDARD
BEGIN:DAYLIGHT
TZOFFSETFROM:-0500
TZOFFSETTO:-0400
TZNAME:EDT
DTSTART:20210314T070000
END:DAYLIGHT
BEGIN:STANDARD
TZOFFSETFROM:-0400
TZOFFSETTO:-0500
TZNAME:EST
DTSTART:20211107T060000
END:STANDARD
BEGIN:DAYLIGHT
TZOFFSETFROM:-0500
TZOFFSETTO:-0400
TZNAME:EDT
DTSTART:20220313T070000
END:DAYLIGHT
BEGIN:STANDARD
TZOFFSETFROM:-0400
TZOFFSETTO:-0500
TZNAME:EST
DTSTART:20221106T060000
END:STANDARD
BEGIN:DAYLIGHT
TZOFFSETFROM:-0500
TZOFFSETTO:-0400
TZNAME:EDT
DTSTART:20230312T070000
END:DAYLIGHT
BEGIN:STANDARD
TZOFFSETFROM:-0400
TZOFFSETTO:-0500
TZNAME:EST
DTSTART:20231105T060000
END:STANDARD
BEGIN:DAYLIGHT
TZOFFSETFROM:-0500
TZOFFSETTO:-0400
TZNAME:EDT
DTSTART:20240310T070000
END:DAYLIGHT
BEGIN:STANDARD
TZOFFSETFROM:-0400
TZOFFSETTO:-0500
TZNAME:EST
DTSTART:20241103T060000
END:STANDARD
BEGIN:DAYLIGHT
TZOFFSETFROM:-0500
TZOFFSETTO:-0400
TZNAME:EDT
DTSTART:20250309T070000
END:DAYLIGHT
BEGIN:STANDARD
TZOFFSETFROM:-0400
TZOFFSETTO:-0500
TZNAME:EST
DTSTART:20251102T060000
END:STANDARD
BEGIN:DAYLIGHT
TZOFFSETFROM:-0500
TZOFFSETTO:-0400
TZNAME:EDT
DTSTART:20260308T070000
END:DAYLIGHT
BEGIN:STANDARD
TZOFFSETFROM:-0400
TZOFFSETTO:-0500
TZNAME:EST
DTSTART:20261101T060000
END:STANDARD
BEGIN:DAYLIGHT
TZOFFSETFROM:-0500
TZOFFSETTO:-0400
TZNAME:EDT
DTSTART:20270314T070000
END:DAYLIGHT
BEGIN:STANDARD
TZOFFSETFROM:-0400
TZOFFSETTO:-0500
TZNAME:EST
DTSTART:20271107T060000
END:STANDARD
END:VTIMEZONE
BEGIN:VEVENT
DTSTART;TZID=America/New_York:20260416T173000
DTEND;TZID=America/New_York:20260416T200000
DTSTAMP:20260419T190734
CREATED:20260318T233527Z
LAST-MODIFIED:20260410T204659Z
UID:10041152-1776360600-1776369600@www.globalatlanta.com
SUMMARY:5th Edition Multi-Chamber Mixer
DESCRIPTION:The 5th edition of the Multi-Chamber Networking Event brings together professionals from across the international business community for an evening of connection and collaboration. With over 300 attendees in previous years\, the event offers a valuable opportunity to expand networks\, engage with multiple chambers\, and build meaningful professional relationships. \n\n\n\nHeld at the Indigo Hotel Vinings\, this gathering provides a welcoming and dynamic setting for business leaders\, entrepreneurs\, and professionals to connect. Attendees are encouraged to bring business cards or use LinkedIn QR codes for easy\, contactless networking\, making it a seamless and engaging experience.  \n\n\n\nParticipating Chambers\n\n\n\n\nIrish Chamber Southeast\n\n\n\nSoutheast U.S. Korean Chamber of Commerce\n\n\n\nSwiss-American Chamber of Commerce\n\n\n\nItaly America Chamber of Commerce Georgia Chapter\n\n\n\nCzech North American Chamber of Commerce and Culture\n\n\n\nGeorgia Vietnamese American Chamber of Commerce\n\n\n\nGerman American Chambers of Commerce\n\n\n\nGeorgia Hispanic Chamber of Commerce\n\n\n\nUkrainian American Chamber of Commerce South\n\n\n\nTurkish American Chamber of Commerce of the South\n\n\n\nThe Finnish American Chamber of Commerce Southeast\n\n\n\nSouth Africa Chamber of Commerce in the USA\n\n\n\nThe Japanese American Society of Georgia\n\n\n\nJapanese Chamber of Commerce\n\n\n\nBritish-American Business Council Georgia\n\n\n\nFrench-American Chamber of Commerce Atlanta-Southeast\n\n\n\nHong Kong Association of Atlanta\n\n\n\nBelgian American Chamber of the South\n\n\n\nThe Swedish-American Chambers of Commerce\n\n\n\nNetherlands American Chamber of Commerce Southeast\n\n\n\nGA Haitian-American Chamber of Commerce\n\n\n\nGeorgia Indo-American Chamber of Commerce\n\n\n\nDanish-American Chamber\n\n\n\nNORDIC Business Council\n\n\n\n\n\n\n\nRegister\n\n\n\n\n\n\n\nDownload Flyer\n\n\n\n\n\n\n\n\n\n\n\n\n\n\n\n\n\n	From the archive:
URL:https://www.globalatlanta.com/event/5th-edition-multi-chamber-mixer/
LOCATION:Hotel Indigo Atlanta Vinings\, 2857 Paces Ferry Rd SE\, Atlanta\, GA\, 30339\, United States
CATEGORIES:Business,Entrepreneur,Entrepreneurship,Featured,Networking,Professional Development
ATTACH;FMTTYPE=image/jpeg:https://www.globalatlanta.com/wp-content/uploads/Event-Calendar-Logos-2026-04-06T134144.089.jpg
GEO:33.8664655;-84.4711742
X-APPLE-STRUCTURED-LOCATION;VALUE=URI;X-ADDRESS=Hotel Indigo Atlanta Vinings 2857 Paces Ferry Rd SE Atlanta GA 30339 United States;X-APPLE-RADIUS=500;X-TITLE=2857 Paces Ferry Rd SE:geo:-84.4711742,33.8664655
END:VEVENT
BEGIN:VEVENT
DTSTART;TZID=America/New_York:20260310T080000
DTEND;TZID=America/New_York:20260310T133000
DTSTAMP:20260419T190734
CREATED:20260216T151357Z
LAST-MODIFIED:20260216T151400Z
UID:10041044-1773129600-1773149400@www.globalatlanta.com
SUMMARY:Kuehne+Nagel's Sea Logistics Seminar
DESCRIPTION:A deep dive into the challenges and opportunities shaping global sea logistics. \n\n\n\nIn a world where disruptions\, geopolitical shifts\, and market volatility are constantly reshaping global trade\, staying ahead of the curve is crucial. Join Kuehne+Nagel’s Sea Logistics in-person seminars to dive deep into the key issues impacting the industry.  \n\n\n\nKey topics will include: \n\n\n\n\nNavigating supply challenges\n\n\n\nGeopolitical influences\n\n\n\nLabor and infrastructure\n\n\n\nMarket dynamics\n\n\n\nTariffs & trade remedies\n\n\n\n\n\n\n\nRegister\n\n\n\n\n\n\n\nDownload Flyer\n\n\n\n\n\n\n\n\n\n\n\n\n\n\n\n\n\n\n\n	From the archive:
URL:https://www.globalatlanta.com/event/kuehnenagels-sea-logistics-seminar/
LOCATION:Hotel Indigo Atlanta Vinings\, 2857 Paces Ferry Rd SE\, Atlanta\, GA\, 30339\, United States
CATEGORIES:Geopolitics,Industry,International Markets,Logistics,Market expansion,Supply Chain,Trade
ATTACH;FMTTYPE=image/jpeg:https://www.globalatlanta.com/wp-content/uploads/Event-Calendar-Logos-35.jpg
GEO:33.8664655;-84.4711742
X-APPLE-STRUCTURED-LOCATION;VALUE=URI;X-ADDRESS=Hotel Indigo Atlanta Vinings 2857 Paces Ferry Rd SE Atlanta GA 30339 United States;X-APPLE-RADIUS=500;X-TITLE=2857 Paces Ferry Rd SE:geo:-84.4711742,33.8664655
END:VEVENT
BEGIN:VEVENT
DTSTART;TZID=America/New_York:20250417T173000
DTEND;TZID=America/New_York:20250417T200000
DTSTAMP:20260419T190734
CREATED:20250212T203859Z
LAST-MODIFIED:20250212T203937Z
UID:10040558-1744911000-1744920000@www.globalatlanta.com
SUMMARY:Multi-Chamber International Networking Mixer
DESCRIPTION:This is an exceptional opportunity to connect with representatives from nearly 20 diverse chambers\, all dedicated to fostering collaboration and building strong business relationships. \n\n\n\nBy attending\, you’ll have the chance to engage with a wide array of professionals\, share ideas\, and explore potential partnerships that can lead to significant business growth. \n\n\n\nDon’t miss out on this chance to expand your network and become part of a vibrant community committed to connectivity and mutual success. \n\n\n\nParticipating chambers:  \n\n\n\n\nConexx: America-Israel Commercial Alliance\n\n\n\nAtlanta Chinese Entrepreneurs Club\n\n\n\nBelgian American Chamber of Commerce\n\n\n\nBritish American Business Council\n\n\n\nCzech North American Chamber of Commerce & Culture\n\n\n\nFrench American Chamber of Commerce Atlanta Southeast\n\n\n\nGeorgia Haitian-American Chamber of Commerce Inc\n\n\n\nGeorgia Hispanic Chamber of Commerce\n\n\n\nGeorgia Indo-American Chamber of Commerce\n\n\n\nGeorgia Vietnamese American Chamber of Commerce\n\n\n\nGerman American Chamber of Commerce of the Southern U.S.\, Inc.\n\n\n\nHong Kong Association of Atlanta\n\n\n\nIrish Chamber of Atlanta\n\n\n\nItaly American Chamber of Commerce Southeast – Georgia Chapter\n\n\n\nJapan America Society of Georgia\n\n\n\nJapanese Chamber of Commerce\n\n\n\nKorean American Chamber of Commerce\n\n\n\nNetherlands America Chamber of Commerce South East\n\n\n\nSouth African Chamber of Commerce in the USA \n\n\n\nSwedish American Chamber of Commerce\n\n\n\nSwiss American Chamber of Commerce\n\n\n\n\n\n\n\nRegister\n\n\n\n\n\n\n\n\n\n\n\n\n\n\n\n\n\n\n\n\n\n	From the archive:
URL:https://www.globalatlanta.com/event/multi-chamber-international-networking-mixer-3/
LOCATION:Hotel Indigo Atlanta Vinings\, 2857 Paces Ferry Rd SE\, Atlanta\, GA\, 30339\, United States
CATEGORIES:Africa,Asia,Caribbean,Europe,Latin America,Middle East / North Africa,Networking
ATTACH;FMTTYPE=image/png:https://www.globalatlanta.com/wp-content/uploads/csm_Multi-Chamber_Mixer_17_April_2025__1__9f04656d12.png
GEO:33.8664655;-84.4711742
X-APPLE-STRUCTURED-LOCATION;VALUE=URI;X-ADDRESS=Hotel Indigo Atlanta Vinings 2857 Paces Ferry Rd SE Atlanta GA 30339 United States;X-APPLE-RADIUS=500;X-TITLE=2857 Paces Ferry Rd SE:geo:-84.4711742,33.8664655
END:VEVENT
BEGIN:VEVENT
DTSTART;TZID=America/New_York:20230420T173000
DTEND;TZID=America/New_York:20230420T200000
DTSTAMP:20260419T190734
CREATED:20230302T204724Z
LAST-MODIFIED:20230302T204724Z
UID:10038443-1682011800-1682020800@www.globalatlanta.com
SUMMARY:Multi-chamber International Networking Mixer
DESCRIPTION:Join for an International Networking Mixer! \nMix and mingle with members of the Belgian\, British\, Dutch\, French\, German\, Irish\, Japanese\, South Korean\, Swedish\, and Swiss business communities at Hotel Indigo Vinings 2857 Paces Ferry Rd SE\, Atlanta\, GA 30339\, from 5.30-8:00 pm. \nDon’t miss this great opportunity to expand your network and enjoy an evening of a friendly exchange over drinks and some complimentary hors d’oeuvres. \n\n\n	From the archive:
URL:https://www.globalatlanta.com/event/multi-chamber-international-networking-mixer/
LOCATION:Hotel Indigo Atlanta Vinings\, 2857 Paces Ferry Rd SE\, Atlanta\, GA\, 30339\, United States
CATEGORIES:Networking
ATTACH;FMTTYPE=image/png:https://www.globalatlanta.com/wp-content/uploads/SACC-Logo.png
GEO:33.8664655;-84.4711742
X-APPLE-STRUCTURED-LOCATION;VALUE=URI;X-ADDRESS=Hotel Indigo Atlanta Vinings 2857 Paces Ferry Rd SE Atlanta GA 30339 United States;X-APPLE-RADIUS=500;X-TITLE=2857 Paces Ferry Rd SE:geo:-84.4711742,33.8664655
END:VEVENT
BEGIN:VEVENT
DTSTART;TZID=America/New_York:20220414T173000
DTEND;TZID=America/New_York:20220414T193000
DTSTAMP:20260419T190734
CREATED:20220404T180705Z
LAST-MODIFIED:20220404T180705Z
UID:10039662-1649957400-1649964600@www.globalatlanta.com
SUMMARY:International Networking Mixer
DESCRIPTION:Join us for our joint International Networking Mixer! \nMix and mingle with members of the Belgian\, British\, Dutch\, French\, German\, Irish\, Italian\, Japanese\, South Korean\, Swedish\, and Swiss business communities. Don’t miss this great opportunity to expand your network\, and enjoy an evening of a friendly exchange over drinks and some complimentary hors d’oeuvres. \nBy accepting this invitation\, we are in the understand that you’re fully vaccinated against COVID-19 or in the possession of a negative PCR test no older than 48-hours before the event. \n*Ticket includes 1 drink and hors d’oeuvres \nParking is free \n\n\n	From the archive:
URL:https://www.globalatlanta.com/event/international-networking-mixer/
LOCATION:Hotel Indigo Atlanta Vinings\, 2857 Paces Ferry Rd SE\, Atlanta\, GA\, 30339\, United States
CATEGORIES:Networking
ATTACH;FMTTYPE=image/png:https://www.globalatlanta.com/wp-content/uploads/unnamed-2-21.png
GEO:33.8664655;-84.4711742
X-APPLE-STRUCTURED-LOCATION;VALUE=URI;X-ADDRESS=Hotel Indigo Atlanta Vinings 2857 Paces Ferry Rd SE Atlanta GA 30339 United States;X-APPLE-RADIUS=500;X-TITLE=2857 Paces Ferry Rd SE:geo:-84.4711742,33.8664655
END:VEVENT
BEGIN:VEVENT
DTSTART;TZID=America/New_York:20170427T080000
DTEND;TZID=America/New_York:20170427T170000
DTSTAMP:20260419T190734
CREATED:20170427T210813Z
LAST-MODIFIED:20170427T210813Z
UID:10036349-1493280000-1493312400@www.globalatlanta.com
SUMMARY:Executive Roundtable Breakfast Series
DESCRIPTION:The Japan-America Society of Georgia presents an Executive Roundtable Breakfast Series exclusively for executives\, managers\, and business leaders from Japanese/American companies to better manage challenges and difficulties and find effective solutions and innovative ways to improve business operations within their specific industries. This Executive Roundtable will be a dynamic mix of presentation and discussions\, giving you a new perspective on leading today’s diverse workforce.  \nMembers: Free! | Non-Members: $20 \n\n\n	From the archive:
URL:https://www.globalatlanta.com/event/executive-roundtable-breakfast-series/
LOCATION:Hotel Indigo Atlanta Vinings\, 2857 Paces Ferry Rd SE\, Atlanta\, GA\, 30339\, United States
CATEGORIES:Business
GEO:33.8664655;-84.4711742
X-APPLE-STRUCTURED-LOCATION;VALUE=URI;X-ADDRESS=Hotel Indigo Atlanta Vinings 2857 Paces Ferry Rd SE Atlanta GA 30339 United States;X-APPLE-RADIUS=500;X-TITLE=2857 Paces Ferry Rd SE:geo:-84.4711742,33.8664655
END:VEVENT
END:VCALENDAR