BEGIN:VCALENDAR
VERSION:2.0
PRODID:-//Global Atlanta - ECPv6.15.20//NONSGML v1.0//EN
CALSCALE:GREGORIAN
METHOD:PUBLISH
X-ORIGINAL-URL:https://www.globalatlanta.com
X-WR-CALDESC:Events for Global Atlanta
REFRESH-INTERVAL;VALUE=DURATION:PT1H
X-Robots-Tag:noindex
X-PUBLISHED-TTL:PT1H
BEGIN:VTIMEZONE
TZID:America/New_York
BEGIN:DAYLIGHT
TZOFFSETFROM:-0500
TZOFFSETTO:-0400
TZNAME:EDT
DTSTART:20210314T070000
END:DAYLIGHT
BEGIN:STANDARD
TZOFFSETFROM:-0400
TZOFFSETTO:-0500
TZNAME:EST
DTSTART:20211107T060000
END:STANDARD
BEGIN:DAYLIGHT
TZOFFSETFROM:-0500
TZOFFSETTO:-0400
TZNAME:EDT
DTSTART:20220313T070000
END:DAYLIGHT
BEGIN:STANDARD
TZOFFSETFROM:-0400
TZOFFSETTO:-0500
TZNAME:EST
DTSTART:20221106T060000
END:STANDARD
BEGIN:DAYLIGHT
TZOFFSETFROM:-0500
TZOFFSETTO:-0400
TZNAME:EDT
DTSTART:20230312T070000
END:DAYLIGHT
BEGIN:STANDARD
TZOFFSETFROM:-0400
TZOFFSETTO:-0500
TZNAME:EST
DTSTART:20231105T060000
END:STANDARD
BEGIN:DAYLIGHT
TZOFFSETFROM:-0500
TZOFFSETTO:-0400
TZNAME:EDT
DTSTART:20240310T070000
END:DAYLIGHT
BEGIN:STANDARD
TZOFFSETFROM:-0400
TZOFFSETTO:-0500
TZNAME:EST
DTSTART:20241103T060000
END:STANDARD
END:VTIMEZONE
BEGIN:VEVENT
DTSTART;TZID=America/New_York:20230928T180000
DTEND;TZID=America/New_York:20230928T200000
DTSTAMP:20260421T150335
CREATED:20230913T205425Z
LAST-MODIFIED:20230913T205430Z
UID:10038601-1695924000-1695931200@www.globalatlanta.com
SUMMARY:SACC-GA Quarterly Happy Hour
DESCRIPTION:Join SACC- Georgia on September 28th for an informal Happy Hour at Iron Hill Brewery in Dunwoody. Don’t miss this opportunity to make great new connections. Feel free to bring friends and colleagues. The event is free of charge but food and drinks are at your own expense. \n\n\n\n\n\n\nRegister\n\n\n\n\n\n\n\n\n\n\n\n\n\n\n\n\n\n\n\n\n\n\n\n\n\n	From the archive:
URL:https://www.globalatlanta.com/event/sacc-ga-quarterly-happy-hour/
LOCATION:Iron Hill Brewery\, 3535 Peachtree Rd NE\, Atlanta\, GA\, 30326\, United States
CATEGORIES:Networking,Sweden
ATTACH;FMTTYPE=image/jpeg:https://www.globalatlanta.com/wp-content/uploads/sacc-logo.jpg
GEO:33.8516403;-84.3596269
X-APPLE-STRUCTURED-LOCATION;VALUE=URI;X-ADDRESS=Iron Hill Brewery 3535 Peachtree Rd NE Atlanta GA 30326 United States;X-APPLE-RADIUS=500;X-TITLE=3535 Peachtree Rd NE:geo:-84.3596269,33.8516403
END:VEVENT
BEGIN:VEVENT
DTSTART;TZID=America/New_York:20220811T180000
DTEND;TZID=America/New_York:20220811T200000
DTSTAMP:20260421T150335
CREATED:20220802T224802Z
LAST-MODIFIED:20220802T224802Z
UID:10007013-1660240800-1660248000@www.globalatlanta.com
SUMMARY:SACC Young Professionals Networking Event
DESCRIPTION:Join the Swedish American Chamber of Commerce at their first Young Professional Networking event on Iron Hill Brewery at 6 pm on the 11th of August. \nSACC- GA are happy to announce that they are restarting their Young Professional Network. The purpose behind the YP-Network is to unite young ambitious professionals and students\, with Scandinavian roots/interests. This offers the unique opportunity to expand your network and to connect with established professionals in a wide variety of fields\, under the SACC-GA umbrella. Meet in both formal and informal settings including networking mingles\, cultural events\, company visits\, and workshops. \n\n\n	From the archive:
URL:https://www.globalatlanta.com/event/sacc-young-professionals/
LOCATION:Iron Hill Brewery\, 3535 Peachtree Rd NE\, Atlanta\, GA\, 30326\, United States
CATEGORIES:Networking
ATTACH;FMTTYPE=image/png:https://www.globalatlanta.com/wp-content/uploads/SACC-Logo.png
GEO:33.8516403;-84.3596269
X-APPLE-STRUCTURED-LOCATION;VALUE=URI;X-ADDRESS=Iron Hill Brewery 3535 Peachtree Rd NE Atlanta GA 30326 United States;X-APPLE-RADIUS=500;X-TITLE=3535 Peachtree Rd NE:geo:-84.3596269,33.8516403
END:VEVENT
END:VCALENDAR