BEGIN:VCALENDAR
VERSION:2.0
PRODID:-//Global Atlanta - ECPv6.15.20//NONSGML v1.0//EN
CALSCALE:GREGORIAN
METHOD:PUBLISH
X-ORIGINAL-URL:https://www.globalatlanta.com
X-WR-CALDESC:Events for Global Atlanta
REFRESH-INTERVAL;VALUE=DURATION:PT1H
X-Robots-Tag:noindex
X-PUBLISHED-TTL:PT1H
BEGIN:VTIMEZONE
TZID:America/New_York
BEGIN:DAYLIGHT
TZOFFSETFROM:-0500
TZOFFSETTO:-0400
TZNAME:EDT
DTSTART:20150308T070000
END:DAYLIGHT
BEGIN:STANDARD
TZOFFSETFROM:-0400
TZOFFSETTO:-0500
TZNAME:EST
DTSTART:20151101T060000
END:STANDARD
BEGIN:DAYLIGHT
TZOFFSETFROM:-0500
TZOFFSETTO:-0400
TZNAME:EDT
DTSTART:20160313T070000
END:DAYLIGHT
BEGIN:STANDARD
TZOFFSETFROM:-0400
TZOFFSETTO:-0500
TZNAME:EST
DTSTART:20161106T060000
END:STANDARD
BEGIN:DAYLIGHT
TZOFFSETFROM:-0500
TZOFFSETTO:-0400
TZNAME:EDT
DTSTART:20170312T070000
END:DAYLIGHT
BEGIN:STANDARD
TZOFFSETFROM:-0400
TZOFFSETTO:-0500
TZNAME:EST
DTSTART:20171105T060000
END:STANDARD
END:VTIMEZONE
BEGIN:VEVENT
DTSTART;TZID=America/New_York:20160603T100000
DTEND;TZID=America/New_York:20160604T190000
DTSTAMP:20260423T170723
CREATED:20160509T135900Z
LAST-MODIFIED:20160509T135900Z
UID:10036337-1464948000-1465066800@www.globalatlanta.com
SUMMARY:Brand Development Bootcamp
DESCRIPTION:In this 2 Day Intensive Bootcamp learn how to Boost the Impact of your Brand! \nBranding is the Everything to any Business…. Stay Cutting Edge by Learning Cutting Edge… Register for the upcoming Bootcamp Atlanta\, Georgia June 3rd & 4th. \nEnhance Your Competitive Edge and Make your Brand unforgettable by learning how to….\n1) Create Branding Essential Strategies\n2) Become a Media Magnet\n3) Dominate Online Marketing with Authority\n4) Improve Pricing Strategy\n5) Increase Client Attraction and Retention \n**Lunch for both days\, Beverage and Snack station plus quality networking also included** \nBonus Information to Catapult your Business by 10 years….Only Offered at the Bootcamp on Day 2. \nIdeal Bootcampers:\nBeauty Industry (Salon Owners\, Barbers\, Beauticians\, etc..)\nHealthcare Professionals in Business\nRealtors \nView Course Info & Register Online www.ImpactBrandingConsulting.com \nVenue Sponsor:\nJLaws & Associates\nAtlanta\, Georgia \n\n\n	From the archive:
URL:https://www.globalatlanta.com/event/brand-development-bootcamp/
LOCATION:JLaws & Associates Atlanta\,  \, United States
CATEGORIES:Business
ATTACH;FMTTYPE=image/jpeg:https://www.globalatlanta.com/wp-content/uploads/bootcamp-scaled.jpg
GEO:37.09024;-95.712891
X-APPLE-STRUCTURED-LOCATION;VALUE=URI;X-ADDRESS=JLaws & Associates Atlanta   United States;X-APPLE-RADIUS=500;X-TITLE=:geo:-95.712891,37.09024
END:VEVENT
END:VCALENDAR