BEGIN:VCALENDAR
VERSION:2.0
PRODID:-//Global Atlanta - ECPv6.15.20//NONSGML v1.0//EN
CALSCALE:GREGORIAN
METHOD:PUBLISH
X-ORIGINAL-URL:https://www.globalatlanta.com
X-WR-CALDESC:Events for Global Atlanta
REFRESH-INTERVAL;VALUE=DURATION:PT1H
X-Robots-Tag:noindex
X-PUBLISHED-TTL:PT1H
BEGIN:VTIMEZONE
TZID:America/New_York
BEGIN:DAYLIGHT
TZOFFSETFROM:-0500
TZOFFSETTO:-0400
TZNAME:EDT
DTSTART:20220313T070000
END:DAYLIGHT
BEGIN:STANDARD
TZOFFSETFROM:-0400
TZOFFSETTO:-0500
TZNAME:EST
DTSTART:20221106T060000
END:STANDARD
BEGIN:DAYLIGHT
TZOFFSETFROM:-0500
TZOFFSETTO:-0400
TZNAME:EDT
DTSTART:20230312T070000
END:DAYLIGHT
BEGIN:STANDARD
TZOFFSETFROM:-0400
TZOFFSETTO:-0500
TZNAME:EST
DTSTART:20231105T060000
END:STANDARD
BEGIN:DAYLIGHT
TZOFFSETFROM:-0500
TZOFFSETTO:-0400
TZNAME:EDT
DTSTART:20240310T070000
END:DAYLIGHT
BEGIN:STANDARD
TZOFFSETFROM:-0400
TZOFFSETTO:-0500
TZNAME:EST
DTSTART:20241103T060000
END:STANDARD
END:VTIMEZONE
BEGIN:VEVENT
DTSTART;TZID=America/New_York:20231026T173000
DTEND;TZID=America/New_York:20231026T190000
DTSTAMP:20260424T222606
CREATED:20231023T021942Z
LAST-MODIFIED:20231023T021944Z
UID:10038641-1698341400-1698346800@www.globalatlanta.com
SUMMARY:Commercial Real Estate - Lending and Taxation Go Hand-in-Hand
DESCRIPTION:Join the Georgia Indo-American Chamber of Commerce for Commercial Real Estate- Lending and Taxation go Hand-in-hand.  \n\n\n\n\n\n\n\n\n\n\n\n\n\n\nRegister\n\n\n\n\n\n\n\n\n\n\n\n\n\n\n\n\n\n\n\n\n\n\n\n\n\n	From the archive:
URL:https://www.globalatlanta.com/event/commercial-real-estate-lending-and-taxation-go-hand-in-hand/
LOCATION:King Building Conference Room\, 5 Concourse Parkway\, Sandy Springs\, GA\, 30328\, United States
CATEGORIES:India,Real Estate
ATTACH;FMTTYPE=image/png:https://www.globalatlanta.com/wp-content/uploads/GIACC-Logo.png
END:VEVENT
BEGIN:VEVENT
DTSTART;TZID=America/New_York:20230817T173000
DTEND;TZID=America/New_York:20230817T190000
DTSTAMP:20260424T222606
CREATED:20230808T161343Z
LAST-MODIFIED:20230808T161343Z
UID:10038567-1692293400-1692298800@www.globalatlanta.com
SUMMARY:Georgia Indo-American Chamber of Commerce Business Networking Event
DESCRIPTION:The Georgia Indo-American Chamber of Commerce invites members\, guests\, and the business community to a networking event followed by an informative session with local expert in small business imports and exports\, Mr. Laurent Khal.  \nMr. Khal has extensive private sector experience in the International ( Export/Import) Trade field – over 4 decades working both for private and semi-Government entities. Prior to joining UGA’s SBDC International Trade Center\, Laurent was a self-employed consultant for Global Footprints LLC.\, an import/export consultancy that helped US small-and-medium (SME’s) size businesses navigate and succeed in the international trade arena. \nLight refreshments will be served. \n\n\n	From the archive:
URL:https://www.globalatlanta.com/event/georgia-indo-american-chamber-of-commerce-business-networking-event/
LOCATION:King Building Conference Room\, 5 Concourse Parkway\, Sandy Springs\, GA\, 30328\, United States
CATEGORIES:Business,Export,Import,Networking
ATTACH;FMTTYPE=image/png:https://www.globalatlanta.com/wp-content/uploads/Georgia-Indo-American-Chamber-of-Commerce-1.png
END:VEVENT
END:VCALENDAR