BEGIN:VCALENDAR
VERSION:2.0
PRODID:-//Global Atlanta - ECPv6.15.20//NONSGML v1.0//EN
CALSCALE:GREGORIAN
METHOD:PUBLISH
X-WR-CALNAME:Global Atlanta
X-ORIGINAL-URL:https://www.globalatlanta.com
X-WR-CALDESC:Events for Global Atlanta
REFRESH-INTERVAL;VALUE=DURATION:PT1H
X-Robots-Tag:noindex
X-PUBLISHED-TTL:PT1H
BEGIN:VTIMEZONE
TZID:America/New_York
BEGIN:DAYLIGHT
TZOFFSETFROM:-0500
TZOFFSETTO:-0400
TZNAME:EDT
DTSTART:20160313T070000
END:DAYLIGHT
BEGIN:STANDARD
TZOFFSETFROM:-0400
TZOFFSETTO:-0500
TZNAME:EST
DTSTART:20161106T060000
END:STANDARD
BEGIN:DAYLIGHT
TZOFFSETFROM:-0500
TZOFFSETTO:-0400
TZNAME:EDT
DTSTART:20170312T070000
END:DAYLIGHT
BEGIN:STANDARD
TZOFFSETFROM:-0400
TZOFFSETTO:-0500
TZNAME:EST
DTSTART:20171105T060000
END:STANDARD
BEGIN:DAYLIGHT
TZOFFSETFROM:-0500
TZOFFSETTO:-0400
TZNAME:EDT
DTSTART:20180311T070000
END:DAYLIGHT
BEGIN:STANDARD
TZOFFSETFROM:-0400
TZOFFSETTO:-0500
TZNAME:EST
DTSTART:20181104T060000
END:STANDARD
END:VTIMEZONE
BEGIN:VEVENT
DTSTART;TZID=America/New_York:20170916T190000
DTEND;TZID=America/New_York:20170916T210000
DTSTAMP:20260424T220833
CREATED:20170804T002725Z
LAST-MODIFIED:20170804T002725Z
UID:10036418-1505588400-1505595600@www.globalatlanta.com
SUMMARY:A Word on Art: Venske & Spänle at the Marcia Wood Gallery
DESCRIPTION:Join the Marcia Wood Gallery\, the Midtown Alliance and the Goethe-Zentrum Atlanta on Tuesday\, September 19\, 2017 for a special look at some of German artists Venske & Spänle’s work\, on display at the Marcia Wood Gallery. \nThe artists – known for their enigmatic marble sculptures – are the brains behind the new world-class art piece on the corner of Peachtree and 10th in Midtown. \n\n\n	From the archive:
URL:https://www.globalatlanta.com/event/word-art-venske-spanle-marcia-wood-gallery/
LOCATION:Marcia Wood Gallery\, 263 Walker St SW\, Atlanta\, GA\, 30313\, United States
CATEGORIES:Arts & Books
ATTACH;FMTTYPE=image/jpeg:https://www.globalatlanta.com/wp-content/uploads/Goethe-professional-hi-res-logo-jpg1-3.jpg
GEO:33.7474835;-84.4031688
X-APPLE-STRUCTURED-LOCATION;VALUE=URI;X-ADDRESS=Marcia Wood Gallery 263 Walker St SW Atlanta GA 30313 United States;X-APPLE-RADIUS=500;X-TITLE=263 Walker St SW:geo:-84.4031688,33.7474835
END:VEVENT
END:VCALENDAR