BEGIN:VCALENDAR
VERSION:2.0
PRODID:-//Global Atlanta - ECPv6.15.20//NONSGML v1.0//EN
CALSCALE:GREGORIAN
METHOD:PUBLISH
X-WR-CALNAME:Global Atlanta
X-ORIGINAL-URL:https://www.globalatlanta.com
X-WR-CALDESC:Events for Global Atlanta
REFRESH-INTERVAL;VALUE=DURATION:PT1H
X-Robots-Tag:noindex
X-PUBLISHED-TTL:PT1H
BEGIN:VTIMEZONE
TZID:America/New_York
BEGIN:DAYLIGHT
TZOFFSETFROM:-0500
TZOFFSETTO:-0400
TZNAME:EDT
DTSTART:20150308T070000
END:DAYLIGHT
BEGIN:STANDARD
TZOFFSETFROM:-0400
TZOFFSETTO:-0500
TZNAME:EST
DTSTART:20151101T060000
END:STANDARD
BEGIN:DAYLIGHT
TZOFFSETFROM:-0500
TZOFFSETTO:-0400
TZNAME:EDT
DTSTART:20160313T070000
END:DAYLIGHT
BEGIN:STANDARD
TZOFFSETFROM:-0400
TZOFFSETTO:-0500
TZNAME:EST
DTSTART:20161106T060000
END:STANDARD
BEGIN:DAYLIGHT
TZOFFSETFROM:-0500
TZOFFSETTO:-0400
TZNAME:EDT
DTSTART:20170312T070000
END:DAYLIGHT
BEGIN:STANDARD
TZOFFSETFROM:-0400
TZOFFSETTO:-0500
TZNAME:EST
DTSTART:20171105T060000
END:STANDARD
END:VTIMEZONE
BEGIN:VEVENT
DTSTART;TZID=America/New_York:20160305T080000
DTEND;TZID=America/New_York:20160305T170000
DTSTAMP:20260425T234027
CREATED:20160111T202202Z
LAST-MODIFIED:20160111T202202Z
UID:10035911-1457164800-1457197200@www.globalatlanta.com
SUMMARY:Japan Academic Challenge & Japanese Speech Contest
DESCRIPTION:The 11th Annual Japan Academic Challenge & the 25th Annual Japanese Speech Contest will be held on March 5\, 2016 at Mercer University Atlanta Campus. This event is co-organized by the Georgia Association of Teachers of Japanese\, the Japanese Chamber of Commerce of Georgia\, the Japan America Society of Georgia\, and the Consulate-General of Japan in Atlanta. \nThe Japan Academic Challenge is a team competition which will challenge students’ knowledge of Japanese cultural aspects\, including: history\, geography\, language\, and current events. \nThe Japanese Speech Contest gives students the opportunity to demonstrate their understanding of the Japanese language by reciting an original speech. This contest provides a unique opportunity for the top winner to receive a roundtrip ticket to Japan! \nThe application deadline is February 20\, 2016. \n2016 Japan Academic Challenge \n\nApplication Guidelines: [PDF]\nRegistration Form: 2016 JAC Registration Form\n\n2016 Japanese Speech Contest \n\nApplication Guidelines: [PDF]\nRegistration Form: 2016 JSC Registration Form”\n\n\n\n	From the archive:
URL:https://www.globalatlanta.com/event/japan-academic-challenge-japanese-speech-contest/
LOCATION:Mercer University – Atlanta\, 3001 Mercer University Dr.\, Atlanta\, GA\, 30341\, United States
GEO:33.8738198;-84.2630939
X-APPLE-STRUCTURED-LOCATION;VALUE=URI;X-ADDRESS=Mercer University – Atlanta 3001 Mercer University Dr. Atlanta GA 30341 United States;X-APPLE-RADIUS=500;X-TITLE=3001 Mercer University Dr.:geo:-84.2630939,33.8738198
END:VEVENT
END:VCALENDAR