BEGIN:VCALENDAR
VERSION:2.0
PRODID:-//Global Atlanta - ECPv6.15.20//NONSGML v1.0//EN
CALSCALE:GREGORIAN
METHOD:PUBLISH
X-WR-CALNAME:Global Atlanta
X-ORIGINAL-URL:https://www.globalatlanta.com
X-WR-CALDESC:Events for Global Atlanta
REFRESH-INTERVAL;VALUE=DURATION:PT1H
X-Robots-Tag:noindex
X-PUBLISHED-TTL:PT1H
BEGIN:VTIMEZONE
TZID:America/New_York
BEGIN:DAYLIGHT
TZOFFSETFROM:-0500
TZOFFSETTO:-0400
TZNAME:EDT
DTSTART:20170312T070000
END:DAYLIGHT
BEGIN:STANDARD
TZOFFSETFROM:-0400
TZOFFSETTO:-0500
TZNAME:EST
DTSTART:20171105T060000
END:STANDARD
BEGIN:DAYLIGHT
TZOFFSETFROM:-0500
TZOFFSETTO:-0400
TZNAME:EDT
DTSTART:20180311T070000
END:DAYLIGHT
BEGIN:STANDARD
TZOFFSETFROM:-0400
TZOFFSETTO:-0500
TZNAME:EST
DTSTART:20181104T060000
END:STANDARD
BEGIN:DAYLIGHT
TZOFFSETFROM:-0500
TZOFFSETTO:-0400
TZNAME:EDT
DTSTART:20190310T070000
END:DAYLIGHT
BEGIN:STANDARD
TZOFFSETFROM:-0400
TZOFFSETTO:-0500
TZNAME:EST
DTSTART:20191103T060000
END:STANDARD
END:VTIMEZONE
BEGIN:VEVENT
DTSTART;TZID=America/New_York:20181112T183000
DTEND;TZID=America/New_York:20181112T210000
DTSTAMP:20260424T121906
CREATED:20181029T050254Z
LAST-MODIFIED:20181029T050254Z
UID:10038137-1542047400-1542056400@www.globalatlanta.com
SUMMARY:Atlantic Institute Early Thanksgiving Dinner Featuring Bill Bolling
DESCRIPTION:You are cordially invited to the Fifth Annual Early Thanksgiving Dinner\, one of the trademark events of the Atlantic Institute. This year\, the dinner features Bill Bolling\, founder of Atlanta Community Food Bank and the current Board Chairman and Senior Advisor of Food Well Alliance\, as the keynote speaker. Bill Bolling served as executive director of the Atlanta Community Food Bank since founding the organization in 1979 until June 2015. Over the span of 36 years\, he led the Food Bank’s distribution of more than half a billion pounds of food and grocery products through a network of more than 600 local and regional partner nonprofit organizations that feed the hungry across 29 Georgia counties. \nLet’s experience the Thanksgiving spirit before the Thanksgiving by sharing a delicious meal\, listening to\, and learning from one another. \n\n\n	From the archive:
URL:https://www.globalatlanta.com/event/atlantic-institute-early-thanksgiving-dinner-featuring-bill-bolling/
LOCATION:Milton Office Park\, 591 N.Main St. Milton\, Alpharetta\, GA\, 30009\, United States
CATEGORIES:Communities,Food,turkey
ATTACH;FMTTYPE=image/png:https://www.globalatlanta.com/wp-content/uploads/thanks.png
GEO:34.0901263;-84.290901
X-APPLE-STRUCTURED-LOCATION;VALUE=URI;X-ADDRESS=Milton Office Park 591 N.Main St. Milton Alpharetta GA 30009 United States;X-APPLE-RADIUS=500;X-TITLE=591 N.Main St. Milton:geo:-84.290901,34.0901263
END:VEVENT
BEGIN:VEVENT
DTSTART;TZID=America/New_York:20181103T110000
DTEND;TZID=America/New_York:20181105T170000
DTSTAMP:20260424T121906
CREATED:20181102T150742Z
LAST-MODIFIED:20181102T150742Z
UID:10038156-1541242800-1541437200@www.globalatlanta.com
SUMMARY:Istanbul Cultural Center's Annual Turkish Food Festival
DESCRIPTION:The Food Festival is featuring fresh homemade food that caters everyone’s taste. \nWe present a wide variety of Mediterranean food\, like salads\, kababs\, baked goods\, homemade breads and pastries\, desserts (especially Turkish Baklava)\, cakes\, vegetable dishes\, cookies\, hot dishes\, and many more will be available for purchase. \nTraditional Turkish coffee and tea will also be served upon request. Sit with other visitors and enjoy a friendly conversation. Don’t forget to take extra for the ones at your home! \nIt is a family-friendly environment\, especially for foodies! You definitely don’t want to miss this. Bring your family and friends. \n\n\n	From the archive:
URL:https://www.globalatlanta.com/event/istanbul-cultural-centers-annual-turkish-food-festival/
LOCATION:Milton Office Park\, 591 N.Main St. Milton\, Alpharetta\, GA\, 30009\, United States
CATEGORIES:Food
ATTACH;FMTTYPE=image/jpeg:https://www.globalatlanta.com/wp-content/uploads/istabul.jpeg
GEO:34.0901263;-84.290901
X-APPLE-STRUCTURED-LOCATION;VALUE=URI;X-ADDRESS=Milton Office Park 591 N.Main St. Milton Alpharetta GA 30009 United States;X-APPLE-RADIUS=500;X-TITLE=591 N.Main St. Milton:geo:-84.290901,34.0901263
END:VEVENT
BEGIN:VEVENT
DTSTART;TZID=America/New_York:20180428T000000
DTEND;TZID=America/New_York:20180429T235959
DTSTAMP:20260424T121906
CREATED:20180409T143017Z
LAST-MODIFIED:20180409T143017Z
UID:10037727-1524873600-1525046399@www.globalatlanta.com
SUMMARY:Turkish Food Festival
DESCRIPTION:Istanbul Cultural Center is back with it’s Annual Turkish Food Festival\, featuring fresh homemade food that locals and visitors alike won’t want to miss! \nThere will be a rich selection of healthy Mediterranean foods\, such as many different salads\, baked goods\, homemade breads\, desserts(Turkish Baklava) and a lot of cakes\, vegetable dishes\, cookies\, some hot dishes and many more will be available for purchase. \nTraditional Turkish coffee and tea in authentic cups will also be served upon request. Visitors can either purchase their food for to-go\, or they can sit down and have their lunch with new people around. \nIt is a family-friendly\, warm environment\, welcoming everyone and specially food taster!. Come along with family and friends! \n\n\n	From the archive:
URL:https://www.globalatlanta.com/event/turkish-food-festival/
LOCATION:Milton Office Park\, 591 N.Main St. Milton\, Alpharetta\, GA\, 30009\, United States
CATEGORIES:Food
ATTACH;FMTTYPE=image/png:https://www.globalatlanta.com/wp-content/uploads/ICC_logo-e1503062248268.png
GEO:34.0901263;-84.290901
X-APPLE-STRUCTURED-LOCATION;VALUE=URI;X-ADDRESS=Milton Office Park 591 N.Main St. Milton Alpharetta GA 30009 United States;X-APPLE-RADIUS=500;X-TITLE=591 N.Main St. Milton:geo:-84.290901,34.0901263
END:VEVENT
END:VCALENDAR