BEGIN:VCALENDAR
VERSION:2.0
PRODID:-//Global Atlanta - ECPv6.15.20//NONSGML v1.0//EN
CALSCALE:GREGORIAN
METHOD:PUBLISH
X-ORIGINAL-URL:https://www.globalatlanta.com
X-WR-CALDESC:Events for Global Atlanta
REFRESH-INTERVAL;VALUE=DURATION:PT1H
X-Robots-Tag:noindex
X-PUBLISHED-TTL:PT1H
BEGIN:VTIMEZONE
TZID:America/New_York
BEGIN:DAYLIGHT
TZOFFSETFROM:-0500
TZOFFSETTO:-0400
TZNAME:EDT
DTSTART:20150308T070000
END:DAYLIGHT
BEGIN:STANDARD
TZOFFSETFROM:-0400
TZOFFSETTO:-0500
TZNAME:EST
DTSTART:20151101T060000
END:STANDARD
BEGIN:DAYLIGHT
TZOFFSETFROM:-0500
TZOFFSETTO:-0400
TZNAME:EDT
DTSTART:20160313T070000
END:DAYLIGHT
BEGIN:STANDARD
TZOFFSETFROM:-0400
TZOFFSETTO:-0500
TZNAME:EST
DTSTART:20161106T060000
END:STANDARD
BEGIN:DAYLIGHT
TZOFFSETFROM:-0500
TZOFFSETTO:-0400
TZNAME:EDT
DTSTART:20170312T070000
END:DAYLIGHT
BEGIN:STANDARD
TZOFFSETFROM:-0400
TZOFFSETTO:-0500
TZNAME:EST
DTSTART:20171105T060000
END:STANDARD
END:VTIMEZONE
BEGIN:VEVENT
DTSTART;TZID=America/New_York:20160321T200000
DTEND;TZID=America/New_York:20160321T230000
DTSTAMP:20260419T232453
CREATED:20160215T190242Z
LAST-MODIFIED:20160215T190242Z
UID:10035959-1458590400-1458601200@www.globalatlanta.com
SUMMARY:GACC Night at Phillips Arena
DESCRIPTION:The Atlanta Hawks & German American Chamber of Commerce would like to invite you & your family to join GACC to watch some exciting NBA action here at Philips Arena! Each discounted ticket includes a $10 Concessions Credit\, good for use at any concessions stand or the Hawks Shop that night (just have the barcode scanned).\n\nWe will also host a Meet-and Greet with Germany’s own Dennis Schröder\, after the game\, for the first 50 people that purchase tickets! See the new court\, new uniforms\, and your Southeastern Division Champion Atlanta Hawks!\n\n\n\n\n\nTo Purchase Tickets\, click the event link : Event Website\n\n\n\n\nUse Special Offer Code: GACC\n\n\n\nOnce you purchase\, email kevin.gibson@hawks.com to see if you’re one of the first 50 to be involved in the meet- and-greet! This offer is only available for tickets purchased through the above link.\n\n\n\n\n\n	From the archive:
URL:https://www.globalatlanta.com/event/gacc-night-at-phillips-arena/
LOCATION:Phillips Arena\, 1 Philips Drive\, Atlanta\, GA\, 30303\, United States
CATEGORIES:Communities
ATTACH;FMTTYPE=image/jpeg:https://www.globalatlanta.com/wp-content/uploads/logo_ahk_atlanta-1.jpg
GEO:33.7571682;-84.3963455
X-APPLE-STRUCTURED-LOCATION;VALUE=URI;X-ADDRESS=Phillips Arena 1 Philips Drive Atlanta GA 30303 United States;X-APPLE-RADIUS=500;X-TITLE=1 Philips Drive:geo:-84.3963455,33.7571682
END:VEVENT
END:VCALENDAR