BEGIN:VCALENDAR
VERSION:2.0
PRODID:-//Global Atlanta - ECPv6.15.20//NONSGML v1.0//EN
CALSCALE:GREGORIAN
METHOD:PUBLISH
X-WR-CALNAME:Global Atlanta
X-ORIGINAL-URL:https://www.globalatlanta.com
X-WR-CALDESC:Events for Global Atlanta
REFRESH-INTERVAL;VALUE=DURATION:PT1H
X-Robots-Tag:noindex
X-PUBLISHED-TTL:PT1H
BEGIN:VTIMEZONE
TZID:America/New_York
BEGIN:DAYLIGHT
TZOFFSETFROM:-0500
TZOFFSETTO:-0400
TZNAME:EDT
DTSTART:20250309T070000
END:DAYLIGHT
BEGIN:STANDARD
TZOFFSETFROM:-0400
TZOFFSETTO:-0500
TZNAME:EST
DTSTART:20251102T060000
END:STANDARD
BEGIN:DAYLIGHT
TZOFFSETFROM:-0500
TZOFFSETTO:-0400
TZNAME:EDT
DTSTART:20260308T070000
END:DAYLIGHT
BEGIN:STANDARD
TZOFFSETFROM:-0400
TZOFFSETTO:-0500
TZNAME:EST
DTSTART:20261101T060000
END:STANDARD
BEGIN:DAYLIGHT
TZOFFSETFROM:-0500
TZOFFSETTO:-0400
TZNAME:EDT
DTSTART:20270314T070000
END:DAYLIGHT
BEGIN:STANDARD
TZOFFSETFROM:-0400
TZOFFSETTO:-0500
TZNAME:EST
DTSTART:20271107T060000
END:STANDARD
END:VTIMEZONE
BEGIN:VEVENT
DTSTART;TZID=America/New_York:20260429T080000
DTEND;TZID=America/New_York:20260503T170000
DTSTAMP:20260423T000036
CREATED:20260422T174342Z
LAST-MODIFIED:20260422T174345Z
UID:10041209-1777449600-1777827600@www.globalatlanta.com
SUMMARY:Fleurs de Villes FLORA: A Couture-Inspired Floral Experience Blooms at Phipps Plaza
DESCRIPTION:The globally renowned Fleurs de Villes returns to Atlanta with the debut of its “FLORA” exhibition\, transforming Phipps Plaza into a vibrant showcase of fashion and floral artistry. Over five days\, visitors can explore a curated collection of couture-inspired floral installations\, including the brand’s signature mannequins crafted from thousands of fresh blooms by Atlanta’s top floral designers. \n\n\n\nBlending springtime creativity with immersive design\, the exhibition invites guests to experience flowers as fashion\, art\, and storytelling. Highlights include interactive displays\, photo-ready installations\, and a chance to vote for a favorite floral creation\, with prizes ranging from a luxury hotel stay to exclusive Atlanta experiences. \n\n\n\nOn Saturday\, May 2\, the event expands with live floral demonstrations and a pop-up flower market featuring local florists\, followed by Phipps Plaza’s Kentucky Derby viewing party on The Green.  \n\n\n\nFree and open to the public\, FLORA offers a colorful and uniquely international celebration as part of a North American tour showcasing local talent in each host city.  \n\n\n\n\n\n\nMore Information\n\n\n\n\n\n\n\nDownload Image\n\n\n\n\n\n\n\n\n\n\n\n\n\n\n\n\n\n\n\n	From the archive:
URL:https://www.globalatlanta.com/event/fleurs-de-villes-flora-a-couture-inspired-floral-experience-blooms-at-phipps-plaza/
LOCATION:Phipps Plaza\, 3500 Peachtree Rd NE\, Atlanta\, Georgia\, 30326\, United States
CATEGORIES:Art,Culture,Fashion
ATTACH;FMTTYPE=image/jpeg:https://www.globalatlanta.com/wp-content/uploads/Untitled-1000-x-750-px-2.jpg
GEO:33.8528035;-84.3622556
X-APPLE-STRUCTURED-LOCATION;VALUE=URI;X-ADDRESS=Phipps Plaza 3500 Peachtree Rd NE Atlanta Georgia 30326 United States;X-APPLE-RADIUS=500;X-TITLE=3500 Peachtree Rd NE:geo:-84.3622556,33.8528035
END:VEVENT
END:VCALENDAR