BEGIN:VCALENDAR
VERSION:2.0
PRODID:-//Global Atlanta - ECPv6.15.20//NONSGML v1.0//EN
CALSCALE:GREGORIAN
METHOD:PUBLISH
X-ORIGINAL-URL:https://www.globalatlanta.com
X-WR-CALDESC:Events for Global Atlanta
REFRESH-INTERVAL;VALUE=DURATION:PT1H
X-Robots-Tag:noindex
X-PUBLISHED-TTL:PT1H
BEGIN:VTIMEZONE
TZID:America/New_York
BEGIN:DAYLIGHT
TZOFFSETFROM:-0500
TZOFFSETTO:-0400
TZNAME:EDT
DTSTART:20150308T070000
END:DAYLIGHT
BEGIN:STANDARD
TZOFFSETFROM:-0400
TZOFFSETTO:-0500
TZNAME:EST
DTSTART:20151101T060000
END:STANDARD
BEGIN:DAYLIGHT
TZOFFSETFROM:-0500
TZOFFSETTO:-0400
TZNAME:EDT
DTSTART:20160313T070000
END:DAYLIGHT
BEGIN:STANDARD
TZOFFSETFROM:-0400
TZOFFSETTO:-0500
TZNAME:EST
DTSTART:20161106T060000
END:STANDARD
BEGIN:DAYLIGHT
TZOFFSETFROM:-0500
TZOFFSETTO:-0400
TZNAME:EDT
DTSTART:20170312T070000
END:DAYLIGHT
BEGIN:STANDARD
TZOFFSETFROM:-0400
TZOFFSETTO:-0500
TZNAME:EST
DTSTART:20171105T060000
END:STANDARD
END:VTIMEZONE
BEGIN:VEVENT
DTSTART;TZID=America/New_York:20160605T140000
DTEND;TZID=America/New_York:20160605T160000
DTSTAMP:20260423T050417
CREATED:20160523T134121Z
LAST-MODIFIED:20160523T134121Z
UID:10036379-1465135200-1465142400@www.globalatlanta.com
SUMMARY:Japanese Cooking Class
DESCRIPTION:Join the Japan-America Society of Georgia for a hands-on cooking class. Learn how to make heathy and delicious Japanese dishes. \nCost:\nMembers: $25\nNon-Members: $30 \n\n\n	From the archive:
URL:https://www.globalatlanta.com/event/japanese-cooking-class/
LOCATION:Staybridge Suites Buckhead\, 540 Pharr Road\, Atlanta\, GA\, 30305\, United States
CATEGORIES:Communities,Food
ATTACH;FMTTYPE=image/jpeg:https://www.globalatlanta.com/wp-content/uploads/unnamed-25.jpg
GEO:33.8372766;-84.3707278
X-APPLE-STRUCTURED-LOCATION;VALUE=URI;X-ADDRESS=Staybridge Suites Buckhead 540 Pharr Road Atlanta GA 30305 United States;X-APPLE-RADIUS=500;X-TITLE=540 Pharr Road:geo:-84.3707278,33.8372766
END:VEVENT
END:VCALENDAR