BEGIN:VCALENDAR
VERSION:2.0
PRODID:-//Global Atlanta - ECPv6.15.20//NONSGML v1.0//EN
CALSCALE:GREGORIAN
METHOD:PUBLISH
X-WR-CALNAME:Global Atlanta
X-ORIGINAL-URL:https://www.globalatlanta.com
X-WR-CALDESC:Events for Global Atlanta
REFRESH-INTERVAL;VALUE=DURATION:PT1H
X-Robots-Tag:noindex
X-PUBLISHED-TTL:PT1H
BEGIN:VTIMEZONE
TZID:America/New_York
BEGIN:DAYLIGHT
TZOFFSETFROM:-0500
TZOFFSETTO:-0400
TZNAME:EDT
DTSTART:20220313T070000
END:DAYLIGHT
BEGIN:STANDARD
TZOFFSETFROM:-0400
TZOFFSETTO:-0500
TZNAME:EST
DTSTART:20221106T060000
END:STANDARD
BEGIN:DAYLIGHT
TZOFFSETFROM:-0500
TZOFFSETTO:-0400
TZNAME:EDT
DTSTART:20230312T070000
END:DAYLIGHT
BEGIN:STANDARD
TZOFFSETFROM:-0400
TZOFFSETTO:-0500
TZNAME:EST
DTSTART:20231105T060000
END:STANDARD
BEGIN:DAYLIGHT
TZOFFSETFROM:-0500
TZOFFSETTO:-0400
TZNAME:EDT
DTSTART:20240310T070000
END:DAYLIGHT
BEGIN:STANDARD
TZOFFSETFROM:-0400
TZOFFSETTO:-0500
TZNAME:EST
DTSTART:20241103T060000
END:STANDARD
END:VTIMEZONE
BEGIN:VEVENT
DTSTART;TZID=America/New_York:20230815T090000
DTEND;TZID=America/New_York:20230815T170000
DTSTAMP:20260424T101137
CREATED:20230725T191805Z
LAST-MODIFIED:20230725T191805Z
UID:10039880-1692090000-1692118800@www.globalatlanta.com
SUMMARY:TSA Export Compliance Forum
DESCRIPTION:The Atlanta International Forwarders & Brokers Association will host the 2nd Annual TSA Export Compliance Forum on August 15 2023. \nFeatured speakers include experts from government agencies such as TSA\, the US Census Bureau\, FAA\, the Department of Homeland Security and more. \nRegister today. \n\n\n	From the archive:
URL:https://www.globalatlanta.com/event/tsa-export-compliance-forum/
LOCATION:The Morrow Center\, 1180 Southlake Circle Suite 100\, Morrow\, GA\, 30260\, United States
CATEGORIES:Business,Export,Trade
ATTACH;FMTTYPE=image/jpeg:https://www.globalatlanta.com/wp-content/uploads/Export-Conference-Flyer.jpg
END:VEVENT
END:VCALENDAR