BEGIN:VCALENDAR
VERSION:2.0
PRODID:-//Global Atlanta - ECPv6.15.20//NONSGML v1.0//EN
CALSCALE:GREGORIAN
METHOD:PUBLISH
X-ORIGINAL-URL:https://www.globalatlanta.com
X-WR-CALDESC:Events for Global Atlanta
REFRESH-INTERVAL;VALUE=DURATION:PT1H
X-Robots-Tag:noindex
X-PUBLISHED-TTL:PT1H
BEGIN:VTIMEZONE
TZID:America/New_York
BEGIN:DAYLIGHT
TZOFFSETFROM:-0500
TZOFFSETTO:-0400
TZNAME:EDT
DTSTART:20170312T070000
END:DAYLIGHT
BEGIN:STANDARD
TZOFFSETFROM:-0400
TZOFFSETTO:-0500
TZNAME:EST
DTSTART:20171105T060000
END:STANDARD
BEGIN:DAYLIGHT
TZOFFSETFROM:-0500
TZOFFSETTO:-0400
TZNAME:EDT
DTSTART:20180311T070000
END:DAYLIGHT
BEGIN:STANDARD
TZOFFSETFROM:-0400
TZOFFSETTO:-0500
TZNAME:EST
DTSTART:20181104T060000
END:STANDARD
BEGIN:DAYLIGHT
TZOFFSETFROM:-0500
TZOFFSETTO:-0400
TZNAME:EDT
DTSTART:20190310T070000
END:DAYLIGHT
BEGIN:STANDARD
TZOFFSETFROM:-0400
TZOFFSETTO:-0500
TZNAME:EST
DTSTART:20191103T060000
END:STANDARD
END:VTIMEZONE
BEGIN:VEVENT
DTSTART;TZID=America/New_York:20180410T170000
DTEND;TZID=America/New_York:20180410T190000
DTSTAMP:20260420T123242
CREATED:20180326T160923Z
LAST-MODIFIED:20180326T160923Z
UID:10036727-1523379600-1523386800@www.globalatlanta.com
SUMMARY:Putting the Power of Language to work for your Global Business
DESCRIPTION:Communicating effectively in a global market is vital for businesses around the world.\nTranslators can play a powerful role in global communication\, enabling companies to gain an edge on their competition by building better bridges to foreign partners and tapping into dynamic new markets here at home. But it isn’t always easy to figure out how best to use translation services. How do you find the right language professional(s)? How do you work effectively with them? How do you get the most bang for your translation buck? \nOn April 10th\,the French-American Chamber of Commerce Atlanta-Southeast is offering a rare opportunity to get an insider’s practical tips on how to become an informed translation consumer\, so you can put the power of language to work for your global business.\nWe hope to see you there! \n\n\n	From the archive:
URL:https://www.globalatlanta.com/event/putting-the-power-of-language-to-work-for-your-global-business/
LOCATION:The Terraces South\,  115 Perimeter Center West\, Dunwoody\, GA\, 30346\, United States
CATEGORIES:Business
ATTACH;FMTTYPE=image/jpeg:https://www.globalatlanta.com/wp-content/uploads/globe-110775_960_720.jpg
GEO:33.927865;-84.34064
X-APPLE-STRUCTURED-LOCATION;VALUE=URI;X-ADDRESS=The Terraces South  115 Perimeter Center West Dunwoody GA 30346 United States;X-APPLE-RADIUS=500;X-TITLE=115 Perimeter Center West:geo:-84.34064,33.927865
END:VEVENT
END:VCALENDAR