BEGIN:VCALENDAR
VERSION:2.0
PRODID:-//Global Atlanta - ECPv6.15.20//NONSGML v1.0//EN
CALSCALE:GREGORIAN
METHOD:PUBLISH
X-WR-CALNAME:Global Atlanta
X-ORIGINAL-URL:https://www.globalatlanta.com
X-WR-CALDESC:Events for Global Atlanta
REFRESH-INTERVAL;VALUE=DURATION:PT1H
X-Robots-Tag:noindex
X-PUBLISHED-TTL:PT1H
BEGIN:VTIMEZONE
TZID:America/New_York
BEGIN:DAYLIGHT
TZOFFSETFROM:-0500
TZOFFSETTO:-0400
TZNAME:EDT
DTSTART:20150308T070000
END:DAYLIGHT
BEGIN:STANDARD
TZOFFSETFROM:-0400
TZOFFSETTO:-0500
TZNAME:EST
DTSTART:20151101T060000
END:STANDARD
BEGIN:DAYLIGHT
TZOFFSETFROM:-0500
TZOFFSETTO:-0400
TZNAME:EDT
DTSTART:20160313T070000
END:DAYLIGHT
BEGIN:STANDARD
TZOFFSETFROM:-0400
TZOFFSETTO:-0500
TZNAME:EST
DTSTART:20161106T060000
END:STANDARD
BEGIN:DAYLIGHT
TZOFFSETFROM:-0500
TZOFFSETTO:-0400
TZNAME:EDT
DTSTART:20170312T070000
END:DAYLIGHT
BEGIN:STANDARD
TZOFFSETFROM:-0400
TZOFFSETTO:-0500
TZNAME:EST
DTSTART:20171105T060000
END:STANDARD
BEGIN:DAYLIGHT
TZOFFSETFROM:-0500
TZOFFSETTO:-0400
TZNAME:EDT
DTSTART:20180311T070000
END:DAYLIGHT
BEGIN:STANDARD
TZOFFSETFROM:-0400
TZOFFSETTO:-0500
TZNAME:EST
DTSTART:20181104T060000
END:STANDARD
BEGIN:DAYLIGHT
TZOFFSETFROM:-0500
TZOFFSETTO:-0400
TZNAME:EDT
DTSTART:20190310T070000
END:DAYLIGHT
BEGIN:STANDARD
TZOFFSETFROM:-0400
TZOFFSETTO:-0500
TZNAME:EST
DTSTART:20191103T060000
END:STANDARD
BEGIN:DAYLIGHT
TZOFFSETFROM:-0500
TZOFFSETTO:-0400
TZNAME:EDT
DTSTART:20200308T070000
END:DAYLIGHT
BEGIN:STANDARD
TZOFFSETFROM:-0400
TZOFFSETTO:-0500
TZNAME:EST
DTSTART:20201101T060000
END:STANDARD
BEGIN:DAYLIGHT
TZOFFSETFROM:-0500
TZOFFSETTO:-0400
TZNAME:EDT
DTSTART:20210314T070000
END:DAYLIGHT
BEGIN:STANDARD
TZOFFSETFROM:-0400
TZOFFSETTO:-0500
TZNAME:EST
DTSTART:20211107T060000
END:STANDARD
BEGIN:DAYLIGHT
TZOFFSETFROM:-0500
TZOFFSETTO:-0400
TZNAME:EDT
DTSTART:20220313T070000
END:DAYLIGHT
BEGIN:STANDARD
TZOFFSETFROM:-0400
TZOFFSETTO:-0500
TZNAME:EST
DTSTART:20221106T060000
END:STANDARD
BEGIN:DAYLIGHT
TZOFFSETFROM:-0500
TZOFFSETTO:-0400
TZNAME:EDT
DTSTART:20230312T070000
END:DAYLIGHT
BEGIN:STANDARD
TZOFFSETFROM:-0400
TZOFFSETTO:-0500
TZNAME:EST
DTSTART:20231105T060000
END:STANDARD
BEGIN:DAYLIGHT
TZOFFSETFROM:-0500
TZOFFSETTO:-0400
TZNAME:EDT
DTSTART:20240310T070000
END:DAYLIGHT
BEGIN:STANDARD
TZOFFSETFROM:-0400
TZOFFSETTO:-0500
TZNAME:EST
DTSTART:20241103T060000
END:STANDARD
END:VTIMEZONE
BEGIN:VEVENT
DTSTART;TZID=America/New_York:20230922T100000
DTEND;TZID=America/New_York:20230923T190000
DTSTAMP:20260424T015208
CREATED:20230908T155714Z
LAST-MODIFIED:20230911T151858Z
UID:10038591-1695376800-1695495600@www.globalatlanta.com
SUMMARY:2023 Diaspora Trade & Investment Summit
DESCRIPTION:This Summit is a collaboration of Kenyan immigrant community in America and their affiliated organizations that form the Association of Kenyan Diaspora Organizations\, Inc. Our theme this year is “Diaspora Expanding Opportunities & Partnerships for a Brighter Future” where business leaders\, youth\, community leaders\, government officials\, will connect and engage with the African immigrant community in the United States to explore investment and trade opportunities. For us in the Diaspora\, it is an opportunity to showcase and advance our own progress in advancing our common welfare particularly in our economic ecosystem and investments\, governance\, and culture. Topics up for discussion include\, Investment and Trade opportunities\, Insurance\, Banking\, Healthcare\, Tourism\, Africa Growth & Opportunity Act (AGOA)\, Real Estate\, public infrastructure\, Women\, Youth\, and Diaspora development. \n\n\n\n\n\n\nRegister\n\n\n\n\n\n\n\n\n\n\n\n\n\n\n\n\n\n\n\n\n\n\n\n\n\n	From the archive:
URL:https://www.globalatlanta.com/event/2023-diaspora-trade-investment-summit/
LOCATION:The Westin Atlanta Perimeter North Hotel\, 7 Concourse Parkway NE\, Atlanta\, GA\, 30328\, United States
CATEGORIES:Kenya
ATTACH;FMTTYPE=image/jpeg:https://www.globalatlanta.com/wp-content/uploads/Event-Calendar-Logos-3.jpg
GEO:33.9151397;-84.3543557
X-APPLE-STRUCTURED-LOCATION;VALUE=URI;X-ADDRESS=The Westin Atlanta Perimeter North Hotel 7 Concourse Parkway NE Atlanta GA 30328 United States;X-APPLE-RADIUS=500;X-TITLE=7 Concourse Parkway NE:geo:-84.3543557,33.9151397
END:VEVENT
BEGIN:VEVENT
DTSTART;TZID=America/New_York:20170825T190000
DTEND;TZID=America/New_York:20170825T220000
DTSTAMP:20260424T015208
CREATED:20170804T010013Z
LAST-MODIFIED:20170804T010013Z
UID:10037103-1503687600-1503698400@www.globalatlanta.com
SUMMARY:African Women in Leadership Gala
DESCRIPTION:AFRICAN Women in Leadership Diaspora Conference is an annual conference of the African Women in Leadership Organisation\, to host women leaders of African Descent from various walks of life\, to deliberate on developing issues in women leadership\, and how to forge frontiers for the emerging next generation female leaders. This event has in participation stakeholders\, speakers\, and facilitators relevant to the women leadership discourse. \nMeet our Keynote Speaker\, Maureen Broderick. \nMaureen Broderick is the \nFounder & CEO at WorldWideWomen \nGET READY FOR AN AMAZING NIGHT AS WE LAUNCH ATLANTA GEORGIA AS THE NATIONAL HEADQUARTERS OF AWLO. \nDATE/TIME: AUGUST 25\, 2017 GALA DINNER: 7PM – 11PM WESTIN PERIMETER \nGET READY TO PARTY WITH WITH SPECIAL GUESTS\, ENTERTAINMENT\, DINNER AND DANCE! \n\n\n	From the archive:
URL:https://www.globalatlanta.com/event/african-women-leadership-gala/
LOCATION:The Westin Atlanta Perimeter North Hotel\, 7 Concourse Parkway NE\, Atlanta\, GA\, 30328\, United States
CATEGORIES:Entertainment
ATTACH;FMTTYPE=image/png:https://www.globalatlanta.com/wp-content/uploads/logo-1-1.png
GEO:33.9151397;-84.3543557
X-APPLE-STRUCTURED-LOCATION;VALUE=URI;X-ADDRESS=The Westin Atlanta Perimeter North Hotel 7 Concourse Parkway NE Atlanta GA 30328 United States;X-APPLE-RADIUS=500;X-TITLE=7 Concourse Parkway NE:geo:-84.3543557,33.9151397
END:VEVENT
BEGIN:VEVENT
DTSTART;TZID=America/New_York:20170825T090000
DTEND;TZID=America/New_York:20170825T140000
DTSTAMP:20260424T015208
CREATED:20170804T005442Z
LAST-MODIFIED:20170804T005442Z
UID:10037098-1503651600-1503669600@www.globalatlanta.com
SUMMARY:African Women in Leadership Diaspora Conference
DESCRIPTION:DESCRIPTION\n\n\n\nAfrican Women in Leadership Diaspora Conference is an annual international conference of the African Women in Leadership Organisation\, that gathers stakeholders in leadership from public and private sector for a discourse on African Women Leadership\, and hosts women leaders for capacity building. \nIt is to bridge the gap of actualization of Female Leadership; and provide access to resources and international networks; for building a support system\, mentorship\, and opportunities. \nMEET OUR KEYNOTE SPEAKER: KARMETRIA BURTON\, PHD\, DIRECTOR\, SUPPLIER DIVERSITY FOR DELTA AIR LINES AND \nOUR PANELIST “ZANE” NEW YORK TIMES BEST SELLING AUTHOR \n\n\n\n\n\n	From the archive:
URL:https://www.globalatlanta.com/event/102409/
LOCATION:The Westin Atlanta Perimeter North Hotel\, 7 Concourse Parkway NE\, Atlanta\, GA\, 30328\, United States
CATEGORIES:Business,Communities
ATTACH;FMTTYPE=image/png:https://www.globalatlanta.com/wp-content/uploads/logo-1-1.png
GEO:33.9151397;-84.3543557
X-APPLE-STRUCTURED-LOCATION;VALUE=URI;X-ADDRESS=The Westin Atlanta Perimeter North Hotel 7 Concourse Parkway NE Atlanta GA 30328 United States;X-APPLE-RADIUS=500;X-TITLE=7 Concourse Parkway NE:geo:-84.3543557,33.9151397
END:VEVENT
BEGIN:VEVENT
DTSTART;TZID=America/New_York:20160124T183000
DTEND;TZID=America/New_York:20160124T203000
DTSTAMP:20260424T015208
CREATED:20160115T180520Z
LAST-MODIFIED:20160115T180520Z
UID:10036090-1453660200-1453667400@www.globalatlanta.com
SUMMARY:Courage and Compassion: "A Lucky Child Survives Auschwitz"
DESCRIPTION:“A LUCKY CHILD SURVIVES AUSCHWITZ” \n Keynote speaker: Thomas Buergenthal \nThomas Buergenthal was born in Lubochna\, Czechoslovakia in 1934. He and his parents fled to Poland where they were forced into the Kielce ghetto. He survived the ghetto and a labor camp from where they were deported to Auschwitz. He is one of the youngest survivors of Auschwitz – despite the fact that it was most unusual and unlikely for a child to survive Auschwitz. He also survived one of the infamous and treacherous death marches. He was liberated by the Soviets from the Sachsenhausen concentration camp in April 1945. He emigrated to the United States in 1951. He is a Human Rights Lawyer\, a judge at the International Court of Justice in the Hague and a Law Professor at George Washington University. \n\n\n	From the archive:
URL:https://www.globalatlanta.com/event/courage-and-compassion-a-lucky-child-survives-auschwitz/
LOCATION:The Westin Atlanta Perimeter North Hotel\, 7 Concourse Parkway NE\, Atlanta\, GA\, 30328\, United States
ATTACH;FMTTYPE=image/jpeg:https://www.globalatlanta.com/wp-content/uploads/AYClogo2.jpg
GEO:33.9151397;-84.3543557
X-APPLE-STRUCTURED-LOCATION;VALUE=URI;X-ADDRESS=The Westin Atlanta Perimeter North Hotel 7 Concourse Parkway NE Atlanta GA 30328 United States;X-APPLE-RADIUS=500;X-TITLE=7 Concourse Parkway NE:geo:-84.3543557,33.9151397
END:VEVENT
END:VCALENDAR