BEGIN:VCALENDAR
VERSION:2.0
PRODID:-//Global Atlanta - ECPv6.15.20//NONSGML v1.0//EN
CALSCALE:GREGORIAN
METHOD:PUBLISH
X-ORIGINAL-URL:https://www.globalatlanta.com
X-WR-CALDESC:Events for Global Atlanta
REFRESH-INTERVAL;VALUE=DURATION:PT1H
X-Robots-Tag:noindex
X-PUBLISHED-TTL:PT1H
BEGIN:VTIMEZONE
TZID:America/New_York
BEGIN:DAYLIGHT
TZOFFSETFROM:-0500
TZOFFSETTO:-0400
TZNAME:EDT
DTSTART:20160313T070000
END:DAYLIGHT
BEGIN:STANDARD
TZOFFSETFROM:-0400
TZOFFSETTO:-0500
TZNAME:EST
DTSTART:20161106T060000
END:STANDARD
BEGIN:DAYLIGHT
TZOFFSETFROM:-0500
TZOFFSETTO:-0400
TZNAME:EDT
DTSTART:20170312T070000
END:DAYLIGHT
BEGIN:STANDARD
TZOFFSETFROM:-0400
TZOFFSETTO:-0500
TZNAME:EST
DTSTART:20171105T060000
END:STANDARD
BEGIN:DAYLIGHT
TZOFFSETFROM:-0500
TZOFFSETTO:-0400
TZNAME:EDT
DTSTART:20180311T070000
END:DAYLIGHT
BEGIN:STANDARD
TZOFFSETFROM:-0400
TZOFFSETTO:-0500
TZNAME:EST
DTSTART:20181104T060000
END:STANDARD
END:VTIMEZONE
BEGIN:VEVENT
DTSTART;TZID=America/New_York:20171030T200000
DTEND;TZID=America/New_York:20171030T200000
DTSTAMP:20260419T123109
CREATED:20171004T183620Z
LAST-MODIFIED:20171004T183620Z
UID:10037285-1509393600-1509393600@www.globalatlanta.com
SUMMARY:Singing Africa: Ibeyi in concert at the Variety Playhouse
DESCRIPTION:Franco-Cuban twins Naomi and Lisa-Kaindé Diaz of hit duo Ibeyi bring their soulful voices and magnetic stage presence to Atlanta for a night of electrifying music. The 22-year-old sisters — who sing in English and Yoruba\, the language of their Nigerian ancestors who arrived in Cuba as slaves — burst onto the music scene in 2015 with their self-titled debut album\, which blends hip-hop\, jazz and soul with electronic beats and traditional instruments. The pair draws influence from both their Parisian upbringing and the Afro-Cuban musical tradition of their father\, famed Cuban percussionist Angá Díaz. Ibeyi means “twins” in Yoruba. \n\n\n	From the archive:
URL:https://www.globalatlanta.com/event/singing-africa-ibeyi-concert-variety-playhouse/
LOCATION:Variety Playhouse\, 1099 Euclid Avenue NE\, Atlanta\, GA\, 30307\, United States
CATEGORIES:Culture
ATTACH;FMTTYPE=image/jpeg:https://www.globalatlanta.com/wp-content/uploads/IBEYI©-ibeyipress.jpg
GEO:33.7636223;-84.3509637
X-APPLE-STRUCTURED-LOCATION;VALUE=URI;X-ADDRESS=Variety Playhouse 1099 Euclid Avenue NE Atlanta GA 30307 United States;X-APPLE-RADIUS=500;X-TITLE=1099 Euclid Avenue NE:geo:-84.3509637,33.7636223
END:VEVENT
END:VCALENDAR