BEGIN:VCALENDAR
VERSION:2.0
PRODID:-//Global Atlanta - ECPv6.15.20//NONSGML v1.0//EN
CALSCALE:GREGORIAN
METHOD:PUBLISH
X-ORIGINAL-URL:https://www.globalatlanta.com
X-WR-CALDESC:Events for Global Atlanta
REFRESH-INTERVAL;VALUE=DURATION:PT1H
X-Robots-Tag:noindex
X-PUBLISHED-TTL:PT1H
BEGIN:VTIMEZONE
TZID:America/New_York
BEGIN:DAYLIGHT
TZOFFSETFROM:-0500
TZOFFSETTO:-0400
TZNAME:EDT
DTSTART:20140309T070000
END:DAYLIGHT
BEGIN:STANDARD
TZOFFSETFROM:-0400
TZOFFSETTO:-0500
TZNAME:EST
DTSTART:20141102T060000
END:STANDARD
BEGIN:DAYLIGHT
TZOFFSETFROM:-0500
TZOFFSETTO:-0400
TZNAME:EDT
DTSTART:20150308T070000
END:DAYLIGHT
BEGIN:STANDARD
TZOFFSETFROM:-0400
TZOFFSETTO:-0500
TZNAME:EST
DTSTART:20151101T060000
END:STANDARD
BEGIN:DAYLIGHT
TZOFFSETFROM:-0500
TZOFFSETTO:-0400
TZNAME:EDT
DTSTART:20160313T070000
END:DAYLIGHT
BEGIN:STANDARD
TZOFFSETFROM:-0400
TZOFFSETTO:-0500
TZNAME:EST
DTSTART:20161106T060000
END:STANDARD
END:VTIMEZONE
BEGIN:VEVENT
DTSTART;TZID=America/New_York:20151118T163000
DTEND;TZID=America/New_York:20151118T190000
DTSTAMP:20260425T070420
CREATED:20151013T172721Z
LAST-MODIFIED:20151013T172721Z
UID:10035920-1447864200-1447873200@www.globalatlanta.com
SUMMARY:Who's Who is the Entrepreneurial Ecosystem
DESCRIPTION:Their community partner roundtables were a huge success last year & they’re bringing it back just for you\, so that TiE Atlanta can connect you to the entire start-up & entrepreneurial community all in one place. The 2014 orgs involved included: Metro Atlanta Chamber\, TAG\, ATDC\, Startup Atlanta\, EO\, Venture Lab\, Ohub and ATV\, among others. \n\n\n	From the archive:
URL:https://www.globalatlanta.com/event/whos-entrepreneurial-ecosystem/
LOCATION:Sheraton Perimeter North\, 800 Hammond Dr NE \, Atlanta\, 30328\, United States
CATEGORIES:Networking
ATTACH;FMTTYPE=image/jpeg:https://www.globalatlanta.com/wp-content/uploads/csRg6dOH.jpeg
GEO:33.9194536;-84.3607313
X-APPLE-STRUCTURED-LOCATION;VALUE=URI;X-ADDRESS=Sheraton Perimeter North 800 Hammond Dr NE  Atlanta 30328 United States;X-APPLE-RADIUS=500;X-TITLE=800 Hammond Dr NE:geo:-84.3607313,33.9194536
END:VEVENT
BEGIN:VEVENT
DTSTART;TZID=America/New_York:20151028T100000
DTEND;TZID=America/New_York:20151028T130000
DTSTAMP:20260425T070420
CREATED:20151013T170851Z
LAST-MODIFIED:20151013T170851Z
UID:10035829-1446026400-1446037200@www.globalatlanta.com
SUMMARY:VIP Strategic Planning Session
DESCRIPTION:Join TiE for a complimentary lunch where we review our Strategic Plan for 2016 led by upcoming TiE Atlanta President\, Kanchana Raman & Peter Baron\, Founder & Principal of Carabiner Communication! This planning session invites the TiE Atlanta stakeholders\, Members\, Sponsors\, & Charter Members. \nGoals & Objectives\n1. Communicate their Strategic Plan for 2016\n2. They want your input on their strategy & pillar programming\n3. How can they better serve their community\, members\, sponsors & charter member mentors. \n\n\n	From the archive:
URL:https://www.globalatlanta.com/event/vip-strategic-planning-session/
LOCATION:Sheraton Perimeter North\, 800 Hammond Dr NE \, Atlanta\, 30328\, United States
CATEGORIES:Communities
ATTACH;FMTTYPE=image/jpeg:https://www.globalatlanta.com/wp-content/uploads/csRg6dOH.jpeg
GEO:33.9194536;-84.3607313
X-APPLE-STRUCTURED-LOCATION;VALUE=URI;X-ADDRESS=Sheraton Perimeter North 800 Hammond Dr NE  Atlanta 30328 United States;X-APPLE-RADIUS=500;X-TITLE=800 Hammond Dr NE:geo:-84.3607313,33.9194536
END:VEVENT
END:VCALENDAR