BEGIN:VCALENDAR
VERSION:2.0
PRODID:-//Global Atlanta - ECPv6.15.20//NONSGML v1.0//EN
CALSCALE:GREGORIAN
METHOD:PUBLISH
X-WR-CALNAME:Global Atlanta
X-ORIGINAL-URL:https://www.globalatlanta.com
X-WR-CALDESC:Events for Global Atlanta
REFRESH-INTERVAL;VALUE=DURATION:PT1H
X-Robots-Tag:noindex
X-PUBLISHED-TTL:PT1H
BEGIN:VTIMEZONE
TZID:America/New_York
BEGIN:DAYLIGHT
TZOFFSETFROM:-0500
TZOFFSETTO:-0400
TZNAME:EDT
DTSTART:20170312T070000
END:DAYLIGHT
BEGIN:STANDARD
TZOFFSETFROM:-0400
TZOFFSETTO:-0500
TZNAME:EST
DTSTART:20171105T060000
END:STANDARD
BEGIN:DAYLIGHT
TZOFFSETFROM:-0500
TZOFFSETTO:-0400
TZNAME:EDT
DTSTART:20180311T070000
END:DAYLIGHT
BEGIN:STANDARD
TZOFFSETFROM:-0400
TZOFFSETTO:-0500
TZNAME:EST
DTSTART:20181104T060000
END:STANDARD
BEGIN:DAYLIGHT
TZOFFSETFROM:-0500
TZOFFSETTO:-0400
TZNAME:EDT
DTSTART:20190310T070000
END:DAYLIGHT
BEGIN:STANDARD
TZOFFSETFROM:-0400
TZOFFSETTO:-0500
TZNAME:EST
DTSTART:20191103T060000
END:STANDARD
END:VTIMEZONE
BEGIN:VEVENT
DTSTART;TZID=America/New_York:20180923T140000
DTEND;TZID=America/New_York:20180923T160000
DTSTAMP:20260424T182255
CREATED:20180911T004713Z
LAST-MODIFIED:20180911T004713Z
UID:10037979-1537711200-1537718400@www.globalatlanta.com
SUMMARY:Sheth Lecture in Indian Studies: Celebrating Diversity and Building Bridges
DESCRIPTION:Indian-American writer Chitra Banerjee Divakaruni is an award-winning author\, poet\, activist and teacher. Common themes in her writing include the Indian experience\, contemporary America\, women\, immigration\, history\, myth\, family\, and the joys and challenges of living in a multicultural world. Her books have been translated into 29 languages\, and her work has appeared in over a hundred magazines and anthologies.\n\nDivakaruni will share about her experience as an immigrant at the 2018 Sheth Lecture in a talk titled\, “Celebrating Diversity and Building Bridges.” Her lecture will touch on major themes in her writing: creating understanding and developing community even in the context of public or personal crises.\nDivakaruni is the Betty and Gene McDavid Professor of Writing at the University of Houston Creative Writing Program. Her short story collection\, Arranged Marriage\, won an American Book Award in 1995. Two of her novels (The Mistress of Spices and Sister of My Heart) as well as a short story\, “The Word Love\,” were adapted into films. Mistress of Spices was short-listed for the Orange Prize. Currently\, Sister of my Heart\, Oleander Girl\, Palace of Illusions\, and One Amazing Thing have all been optioned to be made into movies or TV serials. Apart from poetry collections and stories for young adults\, Divakaruni has 11 novels to her credit.\n\n\n\n	From the archive:
URL:https://www.globalatlanta.com/event/celebrating-diversity-and-building-bridges/
LOCATION:W525 Goizueta Business School\, 1300 Clifton Rd\, Atlanta\, 30322\, United States
CATEGORIES:Culture
ATTACH;FMTTYPE=image/png:https://www.globalatlanta.com/wp-content/uploads/emory-.png
GEO:33.7901628;-84.3217663
X-APPLE-STRUCTURED-LOCATION;VALUE=URI;X-ADDRESS=W525 Goizueta Business School 1300 Clifton Rd Atlanta 30322 United States;X-APPLE-RADIUS=500;X-TITLE=1300 Clifton Rd:geo:-84.3217663,33.7901628
END:VEVENT
END:VCALENDAR