BEGIN:VCALENDAR
VERSION:2.0
PRODID:-//Global Atlanta - ECPv6.15.20//NONSGML v1.0//EN
CALSCALE:GREGORIAN
METHOD:PUBLISH
X-ORIGINAL-URL:https://www.globalatlanta.com
X-WR-CALDESC:Events for Global Atlanta
REFRESH-INTERVAL;VALUE=DURATION:PT1H
X-Robots-Tag:noindex
X-PUBLISHED-TTL:PT1H
BEGIN:VTIMEZONE
TZID:America/New_York
BEGIN:DAYLIGHT
TZOFFSETFROM:-0500
TZOFFSETTO:-0400
TZNAME:EDT
DTSTART:20140309T070000
END:DAYLIGHT
BEGIN:STANDARD
TZOFFSETFROM:-0400
TZOFFSETTO:-0500
TZNAME:EST
DTSTART:20141102T060000
END:STANDARD
BEGIN:DAYLIGHT
TZOFFSETFROM:-0500
TZOFFSETTO:-0400
TZNAME:EDT
DTSTART:20150308T070000
END:DAYLIGHT
BEGIN:STANDARD
TZOFFSETFROM:-0400
TZOFFSETTO:-0500
TZNAME:EST
DTSTART:20151101T060000
END:STANDARD
BEGIN:DAYLIGHT
TZOFFSETFROM:-0500
TZOFFSETTO:-0400
TZNAME:EDT
DTSTART:20160313T070000
END:DAYLIGHT
BEGIN:STANDARD
TZOFFSETFROM:-0400
TZOFFSETTO:-0500
TZNAME:EST
DTSTART:20161106T060000
END:STANDARD
BEGIN:DAYLIGHT
TZOFFSETFROM:-0500
TZOFFSETTO:-0400
TZNAME:EDT
DTSTART:20170312T070000
END:DAYLIGHT
BEGIN:STANDARD
TZOFFSETFROM:-0400
TZOFFSETTO:-0500
TZNAME:EST
DTSTART:20171105T060000
END:STANDARD
BEGIN:DAYLIGHT
TZOFFSETFROM:-0500
TZOFFSETTO:-0400
TZNAME:EDT
DTSTART:20180311T070000
END:DAYLIGHT
BEGIN:STANDARD
TZOFFSETFROM:-0400
TZOFFSETTO:-0500
TZNAME:EST
DTSTART:20181104T060000
END:STANDARD
BEGIN:DAYLIGHT
TZOFFSETFROM:-0500
TZOFFSETTO:-0400
TZNAME:EDT
DTSTART:20190310T070000
END:DAYLIGHT
BEGIN:STANDARD
TZOFFSETFROM:-0400
TZOFFSETTO:-0500
TZNAME:EST
DTSTART:20191103T060000
END:STANDARD
BEGIN:DAYLIGHT
TZOFFSETFROM:-0500
TZOFFSETTO:-0400
TZNAME:EDT
DTSTART:20200308T070000
END:DAYLIGHT
BEGIN:STANDARD
TZOFFSETFROM:-0400
TZOFFSETTO:-0500
TZNAME:EST
DTSTART:20201101T060000
END:STANDARD
BEGIN:DAYLIGHT
TZOFFSETFROM:-0500
TZOFFSETTO:-0400
TZNAME:EDT
DTSTART:20210314T070000
END:DAYLIGHT
BEGIN:STANDARD
TZOFFSETFROM:-0400
TZOFFSETTO:-0500
TZNAME:EST
DTSTART:20211107T060000
END:STANDARD
BEGIN:DAYLIGHT
TZOFFSETFROM:-0500
TZOFFSETTO:-0400
TZNAME:EDT
DTSTART:20220313T070000
END:DAYLIGHT
BEGIN:STANDARD
TZOFFSETFROM:-0400
TZOFFSETTO:-0500
TZNAME:EST
DTSTART:20221106T060000
END:STANDARD
BEGIN:DAYLIGHT
TZOFFSETFROM:-0500
TZOFFSETTO:-0400
TZNAME:EDT
DTSTART:20230312T070000
END:DAYLIGHT
BEGIN:STANDARD
TZOFFSETFROM:-0400
TZOFFSETTO:-0500
TZNAME:EST
DTSTART:20231105T060000
END:STANDARD
BEGIN:DAYLIGHT
TZOFFSETFROM:-0500
TZOFFSETTO:-0400
TZNAME:EDT
DTSTART:20240310T070000
END:DAYLIGHT
BEGIN:STANDARD
TZOFFSETFROM:-0400
TZOFFSETTO:-0500
TZNAME:EST
DTSTART:20241103T060000
END:STANDARD
BEGIN:DAYLIGHT
TZOFFSETFROM:-0500
TZOFFSETTO:-0400
TZNAME:EDT
DTSTART:20250309T070000
END:DAYLIGHT
BEGIN:STANDARD
TZOFFSETFROM:-0400
TZOFFSETTO:-0500
TZNAME:EST
DTSTART:20251102T060000
END:STANDARD
BEGIN:DAYLIGHT
TZOFFSETFROM:-0500
TZOFFSETTO:-0400
TZNAME:EDT
DTSTART:20260308T070000
END:DAYLIGHT
BEGIN:STANDARD
TZOFFSETFROM:-0400
TZOFFSETTO:-0500
TZNAME:EST
DTSTART:20261101T060000
END:STANDARD
END:VTIMEZONE
BEGIN:VEVENT
DTSTART;TZID=America/New_York:20250529T200000
DTEND;TZID=America/New_York:20250529T223000
DTSTAMP:20260420T032810
CREATED:20250506T191709Z
LAST-MODIFIED:20250516T181829Z
UID:10040661-1748548800-1748557800@www.globalatlanta.com
SUMMARY:Atlanta Symphony Orchestra: An American in Paris
DESCRIPTION:Join the Atlanta Symphony Orchestra for a French Culture Night concert featuring Gershwin’s An American in Paris\, and enjoy a post-concert meet and greet reception with French conductor Stéphane Denève. \n\n\n\nAudience favorite Kirill Gerstein returns to the Atlanta Symphony Orchestra. “A peerless performer with so much to express” (The Guardian)\, Gerstein plays Ravel’s Piano Concerto for the Left Hand\, a piquant piece with jazzy underpinnings. The popular guest conductor Stéphane Denève keeps with the French theme throughout with Ibert’s lighthearted Escales\, “Ports of Call\,” a trio of musical postcards from a trip abroad. The ASO re-enacts The Creation of the World with an extra shot of French whimsy\, courtesy of Darius Milhaud\, and ends on a high with Gershwin’s irresistible love letter to the French capital\, An American in Paris. \n\n\n\n\n\n\nRegister\n\n\n\n\n\n\n\nDownload Flyer\n\n\n\n\n\n\n\n\n\n\n\n\n\n\n\n\n\n\n\n	From the archive:
URL:https://www.globalatlanta.com/event/atlanta-symphony-orchestra-an-american-in-paris/
LOCATION:Woodruff Arts Center\, 1280 Peachtree St. NE\, Atlanta\, GA\, 30309\, United States
CATEGORIES:Concert,Culture,France,Music
ATTACH;FMTTYPE=image/png:https://www.globalatlanta.com/wp-content/uploads/Screen-Shot-2023-02-21-at-1.31.15-PM.png
GEO:33.7891582;-84.3849351
X-APPLE-STRUCTURED-LOCATION;VALUE=URI;X-ADDRESS=Woodruff Arts Center 1280 Peachtree St. NE Atlanta GA 30309 United States;X-APPLE-RADIUS=500;X-TITLE=1280 Peachtree St. NE:geo:-84.3849351,33.7891582
END:VEVENT
BEGIN:VEVENT
DTSTART;TZID=America/New_York:20180203T190000
DTEND;TZID=America/New_York:20180203T210000
DTSTAMP:20260420T032810
CREATED:20180202T163915Z
LAST-MODIFIED:20180202T163915Z
UID:10037582-1517684400-1517691600@www.globalatlanta.com
SUMMARY:Atlanta Jewish Film Festival: Young Professionals Night
DESCRIPTION:Join the Goethe-Zentrum Atlanta at the Young Professionals Night at the Atlanta Jewish Film Festival\, presented by AJC ACCESS. \nThis evening of fun and film is open to young professionals under 40 of all faith and ethnic backgrounds – it’s guaranteed to be a night to make new contacts and meet new people! \nThe evening will begin with a pre-party with food and cash bar at the Woodruff Art Center’s Center Space\, followed by a screening of the comedy The Boy Downstairs and a   Q & A with director Sophie Brooks and actor Matthew Shear. \nADMISSION: $18 (includes both the pre-party and film).\nUse the discount code: YPGOETHE \n\n\n	From the archive:
URL:https://www.globalatlanta.com/event/atlanta-jewish-film-festival-young-professionals-night/
LOCATION:Woodruff Arts Center\, 1280 Peachtree St. NE\, Atlanta\, GA\, 30309\, United States
CATEGORIES:Arts & Books
ATTACH;FMTTYPE=image/png:https://www.globalatlanta.com/wp-content/uploads/Capturer-e1517589533689.png
GEO:33.7891582;-84.3849351
X-APPLE-STRUCTURED-LOCATION;VALUE=URI;X-ADDRESS=Woodruff Arts Center 1280 Peachtree St. NE Atlanta GA 30309 United States;X-APPLE-RADIUS=500;X-TITLE=1280 Peachtree St. NE:geo:-84.3849351,33.7891582
END:VEVENT
BEGIN:VEVENT
DTSTART;TZID=America/New_York:20180114T150000
DTEND;TZID=America/New_York:20180114T170000
DTSTAMP:20260420T032810
CREATED:20171220T155327Z
LAST-MODIFIED:20171220T155327Z
UID:10037479-1515942000-1515949200@www.globalatlanta.com
SUMMARY:Chinese Business Association of Atlanta (CBAA) - 25th Chinese New Year Gala
DESCRIPTION:The Chinese Business Association of Atlanta (CBAA) 25 th Chinese New Year Gala Show will be held at the Atlanta Woodruff Arts Center (Atlanta Symphony Hall) at 3 PM on January 14\, 2018 (Sunday). The famous top Chinese orchestra – Shanghai Light Music Orchestra (SLMO) is invited to perform at the Gala with local artists. \nTo purchase the tickets online\, please click link. \n\n\n	From the archive:
URL:https://www.globalatlanta.com/event/chinese-business-association-atlanta-cbaa25th-chinese-new-year-gala/
LOCATION:Woodruff Arts Center\, 1280 Peachtree St. NE\, Atlanta\, GA\, 30309\, United States
CATEGORIES:Culture
ATTACH;FMTTYPE=image/png:https://www.globalatlanta.com/wp-content/uploads/download-3.png
GEO:33.7891582;-84.3849351
X-APPLE-STRUCTURED-LOCATION;VALUE=URI;X-ADDRESS=Woodruff Arts Center 1280 Peachtree St. NE Atlanta GA 30309 United States;X-APPLE-RADIUS=500;X-TITLE=1280 Peachtree St. NE:geo:-84.3849351,33.7891582
END:VEVENT
BEGIN:VEVENT
DTSTART;TZID=America/New_York:20170915T190000
DTEND;TZID=America/New_York:20170915T220000
DTSTAMP:20260420T032810
CREATED:20170905T092959Z
LAST-MODIFIED:20170905T092959Z
UID:10037160-1505502000-1505512800@www.globalatlanta.com
SUMMARY:An Evening of the Arts and Film
DESCRIPTION:Denise Jackson and the Southeastern International Film Festival present An Evening  of the Arts and Film: A Special Screening of STEALING ALICE \n\n\n\n\n\n\n\n\n\n\n\n\nReception and Q&A with Québec Artist / Author\, Marc Séguin \nStealing Alice is the first feature film written and directed by painter and author Marc Seguin. \nEnjoy the 90 minute fictional drama. It will be screened for this one night only in digital projection with dolby surround sound for a state of the art experience in the Rich Auditorium. \n  \n\n\n\n\n\n\n\n\n	From the archive:
URL:https://www.globalatlanta.com/event/evening-arts-film/
LOCATION:Woodruff Arts Center\, 1280 Peachtree St. NE\, Atlanta\, GA\, 30309\, United States
CATEGORIES:Arts & Books,Culture
GEO:33.7891582;-84.3849351
X-APPLE-STRUCTURED-LOCATION;VALUE=URI;X-ADDRESS=Woodruff Arts Center 1280 Peachtree St. NE Atlanta GA 30309 United States;X-APPLE-RADIUS=500;X-TITLE=1280 Peachtree St. NE:geo:-84.3849351,33.7891582
END:VEVENT
BEGIN:VEVENT
DTSTART;TZID=America/New_York:20170509T190000
DTEND;TZID=America/New_York:20170509T210000
DTSTAMP:20260420T032810
CREATED:20170424T113355Z
LAST-MODIFIED:20170424T113355Z
UID:10036342-1494356400-1494363600@www.globalatlanta.com
SUMMARY:The Vietnam War - Documentary Preview Screening and Filmmaker Discussion
DESCRIPTION:THE VIETNAM WAR an immersive ten part\, eighteen hour documentary film series directed by Ken Burns and Lynn Novick\, tells the epic story of one of the most consequential\, divisive\, and misunderstood events in American history. The series features testimony of nearly 100 eye-witnesses\, including “ordinary” Americans who fought in the conflict and those who fought against it\, and “ordinary” Vietnamese soldiers and civilians from the North and the South. In recalling for the camera what they saw and felt and did half a century ago\, these men and women reveal the human dimensions of the searing tragedy that tore America apart\, unified Vietnam under communist rule\, and cost the lives of 58\,000 Americans and as many as three million Vietnamese. \nJoin us for a preview of selected footage from the series and an in-depth discussion with Co-Director Lynn Novick and Producer Sarah Botstein moderated by GPB’s Celeste Headlee. \n\n\n	From the archive:
URL:https://www.globalatlanta.com/event/vietnam-war-documentary-preview-screening-filmmaker-discussion/
LOCATION:Woodruff Arts Center\, 1280 Peachtree St. NE\, Atlanta\, GA\, 30309\, United States
CATEGORIES:Communities
ATTACH;FMTTYPE=image/png:https://www.globalatlanta.com/wp-content/uploads/GPB-Logo-Black.png
GEO:33.7891582;-84.3849351
X-APPLE-STRUCTURED-LOCATION;VALUE=URI;X-ADDRESS=Woodruff Arts Center 1280 Peachtree St. NE Atlanta GA 30309 United States;X-APPLE-RADIUS=500;X-TITLE=1280 Peachtree St. NE:geo:-84.3849351,33.7891582
END:VEVENT
BEGIN:VEVENT
DTSTART;TZID=America/New_York:20160817T080000
DTEND;TZID=America/New_York:20160817T170000
DTSTAMP:20260420T032810
CREATED:20160817T190409Z
LAST-MODIFIED:20160817T190409Z
UID:10036119-1471420800-1471453200@www.globalatlanta.com
SUMMARY:UK Rocks! An ‘Across the Pond’ Spectacular Delta POPS! Series
DESCRIPTION:Michael Krajewski\, conductor\nStorm Large\, vocalist\nShem von Shroeck\, vocalist\nAtlanta Symphony Orchestra\nTickets to all Atlanta Symphony Orchestra performances at Atlanta Symphony Hall are available online at AtlantaSymphony.org or by calling 404-733-5000. Tickets may also be purchased at the Woodruff Arts Center Box Office\, located in the Woodruff Arts Center at 15th and Peachtree Streets. Box office hours are Tuesday through Saturday noon to 6:00 p.m. and Sunday noon to 5:00 p.m. \n\n\n	From the archive:
URL:https://www.globalatlanta.com/event/uk-rocks-across-pond-spectacular-delta-pops-series/
LOCATION:Woodruff Arts Center\, 1280 Peachtree St. NE\, Atlanta\, GA\, 30309\, United States
CATEGORIES:Entertainment
GEO:33.7891582;-84.3849351
X-APPLE-STRUCTURED-LOCATION;VALUE=URI;X-ADDRESS=Woodruff Arts Center 1280 Peachtree St. NE Atlanta GA 30309 United States;X-APPLE-RADIUS=500;X-TITLE=1280 Peachtree St. NE:geo:-84.3849351,33.7891582
END:VEVENT
BEGIN:VEVENT
DTSTART;TZID=America/New_York:20151013T153000
DTEND;TZID=America/New_York:20151013T200000
DTSTAMP:20260420T032810
CREATED:20151008T180755Z
LAST-MODIFIED:20151008T180755Z
UID:10035908-1444750200-1444766400@www.globalatlanta.com
SUMMARY:QS World MBA Tour
DESCRIPTION:This event is your opportunity to meet with admissions directors from top local and international business schools and network with MBA alumni who will share their study and career success stories. As an attendee you will be eligible to apply for exclusive MBA scholarships worth $1.7M and attend panels and seminars to have all of your MBA questions answered in one place. \nTheir goal is to provide ambitious professionals like you with the best tools in order to facilitate your personal and professional development. They ensure that you have access to top business schools and education experts to help make this very important decision. \n\n\n	From the archive:
URL:https://www.globalatlanta.com/event/qs-world-mba-tour/
LOCATION:Woodruff Arts Center\, 1280 Peachtree St. NE\, Atlanta\, GA\, 30309\, United States
CATEGORIES:Business,Education
ATTACH;FMTTYPE=image/png:https://www.globalatlanta.com/wp-content/uploads/logo.png
GEO:33.7891582;-84.3849351
X-APPLE-STRUCTURED-LOCATION;VALUE=URI;X-ADDRESS=Woodruff Arts Center 1280 Peachtree St. NE Atlanta GA 30309 United States;X-APPLE-RADIUS=500;X-TITLE=1280 Peachtree St. NE:geo:-84.3849351,33.7891582
END:VEVENT
END:VCALENDAR